BEGIN:VCALENDAR
VERSION:2.0
PRODID:-//wp-events-plugin.com//7.2.3.1//EN
TZID:Europe/Paris
X-WR-TIMEZONE:Europe/Paris
BEGIN:VEVENT
UID:625@egliseverte.org
DTSTART;TZID=Europe/Paris;VALUE=DATE:20260126
DTEND;TZID=Europe/Paris;VALUE=DATE:20260217
DTSTAMP:20251203T163243Z
URL:https://www.egliseverte.org/agenda/jouer-au-jeu-ma-petite-planete-6/
SUMMARY:Jouer au jeu Ma Petite Planète
DESCRIPTION:Le jeu Ma Petite Planète est un challenge ludique autour de d
 éfis écologiques\, à relever en équipe avec son entourage pendant 3 se
 maines. Le défi est proposé trois par an\, en automne\, en hiver et au p
 rintemps.\nDepuis janvier 2024\, Église verte propose aux communautés la
 bellisées et au groupe Église verte familles de participer à ce challen
 ge. Pour en savoir plus\, consultez cette page : Défi Ma Petite Planète.
 \n\nLa prochaine édition aura lieu cet hiver du lundi 26 janvier au lundi
  16 février 2026. 
ATTACH;FMTTYPE=image/jpeg:https://www.egliseverte.org/wp-content/uploads/2
 025/12/MPP-edition-hiver.png
LOCATION:https://www.egliseverte.org/actualites/prochaine-edition-ma-petite
 -planete/
END:VEVENT
BEGIN:VTIMEZONE
TZID:Europe/Paris
X-LIC-LOCATION:Europe/Paris
BEGIN:STANDARD
DTSTART:20251026T020000
TZOFFSETFROM:+0200
TZOFFSETTO:+0100
TZNAME:CET
END:STANDARD
END:VTIMEZONE
END:VCALENDAR