BEGIN:VCALENDAR
VERSION:2.0
PRODID:-//wp-events-plugin.com//7.2.3.1//EN
TZID:Europe/Paris
X-WR-TIMEZONE:Europe/Paris
BEGIN:VEVENT
UID:217@egliseverte.org
DTSTART;TZID=Europe/Paris;VALUE=DATE:20221001
DTEND;TZID=Europe/Paris;VALUE=DATE:20221002
DTSTAMP:20231120T160621Z
URL:https://www.egliseverte.org/agenda/festival-de-lecologie-integrale-44/
SUMMARY:Festival de l’Écologie Intégrale (44)
DESCRIPTION:Dans la dynamique de Laudato si’\, le diocèse de Nantes orga
 nise son premier Festival de l’écologie intégrale.\nL’objectif de ce
 t événement est à la fois de rendre visible la dynamique Église verte 
 dans le diocèse\, de mettre en valeur les initiatives de terrain\, de fav
 oriser échanges et rencontres entre acteurs engagés dans la conversion 
 écologique mais aussi de stimuler la conversion de chacun.\n\nLe programm
 e de cette journée fera alterner rencontres et échanges\, une célébrat
 ion dans l’église de Derval\, présidée par l’évêque\, puis un fes
 t-noz au lycée Saint-Clair. Les participants pourront se promener dans le
  village des initiatives\, assister à de nombreux débats et participer 
 à des ateliers pour les petits et grands. Pour les plus motivés : un pr
 é festival est prévu le samedi matin (10h-12h)\, sous forme de visites d
 ans le nord de la Loire-Atlantique.\n\nfei44.derval@gmail.com\n\n&nbsp\;
ATTACH;FMTTYPE=image/jpeg:https://www.egliseverte.org/wp-content/uploads/2
 022/09/Header-169-de-lecologie-integrale-1.jpg
LOCATION:Maison Saint-Donatien\, La Haye\, Derval\, 44590\, France
GEO:47.663086;-1.664771
X-APPLE-STRUCTURED-LOCATION;VALUE=URI;X-ADDRESS=La Haye\, Derval\, 44590\, 
 France;X-APPLE-RADIUS=100;X-TITLE=Maison Saint-Donatien:geo:47.663086,-1.6
 64771
END:VEVENT
BEGIN:VTIMEZONE
TZID:Europe/Paris
X-LIC-LOCATION:Europe/Paris
BEGIN:DAYLIGHT
DTSTART:20220327T030000
TZOFFSETFROM:+0100
TZOFFSETTO:+0200
TZNAME:CEST
END:DAYLIGHT
END:VTIMEZONE
END:VCALENDAR