BEGIN:VCALENDAR
VERSION:2.0
PRODID:-//wp-events-plugin.com//7.2.3.1//EN
TZID:Europe/Paris
X-WR-TIMEZONE:Europe/Paris
BEGIN:VEVENT
UID:364@egliseverte.org
DTSTART;TZID=Europe/Paris:20240914T100000
DTEND;TZID=Europe/Paris:20240914T180000
DTSTAMP:20240904T093219Z
URL:https://www.egliseverte.org/agenda/journee-brico-spirituelle-35/
SUMMARY:Journée brico-spirituelle (35)
DESCRIPTION:Journée brico-spirituelle &amp\; porte ouverte à l'ermitage p
 aroissial le samedi 14 septembre 2024 de 10h à 18h.\n\nUne journée festi
 ve pour prendre soin du lieu qui prend soin des personnes. Pique-nique tir
 é du sac et se munir de ses outils de jardinage.\n\n14h30 : Grand jeu sur
  les plantes bibliques.\n\nNous sommes preneurs de boutures !\n\nErmitage 
 Notre-Dame du Désert\, 105\, Lieu-dit La Couperie\, PONT REAN\, 35170 BRU
 Z
ATTACH;FMTTYPE=image/jpeg:https://www.egliseverte.org/wp-content/uploads/2
 024/08/Journee-BS-2024.jpg
LOCATION:Ermitage ND du Désert\, 105\, lieu-dit La Couperie\, PONT REAN\, 
 BRUZ\, FRANCE\, 35170\, Bretagne\, France
GEO:48.00916;-1.774967
X-APPLE-STRUCTURED-LOCATION;VALUE=URI;X-ADDRESS=105\, lieu-dit La Couperie\
 , PONT REAN\, BRUZ\, FRANCE\, 35170\, Bretagne\, France;X-APPLE-RADIUS=100
 ;X-TITLE=Ermitage ND du Désert:geo:48.00916,-1.774967
END:VEVENT
BEGIN:VTIMEZONE
TZID:Europe/Paris
X-LIC-LOCATION:Europe/Paris
BEGIN:DAYLIGHT
DTSTART:20240331T030000
TZOFFSETFROM:+0100
TZOFFSETTO:+0200
TZNAME:CEST
END:DAYLIGHT
END:VTIMEZONE
END:VCALENDAR