BEGIN:VCALENDAR
VERSION:2.0
PRODID:-//wp-events-plugin.com//7.2.3.1//EN
TZID:Europe/Paris
X-WR-TIMEZONE:Europe/Paris
BEGIN:VEVENT
UID:515@egliseverte.org
DTSTART;TZID=Europe/Paris:20250927T143000
DTEND;TZID=Europe/Paris:20250927T220000
DTSTAMP:20250903T091258Z
URL:https://www.egliseverte.org/agenda/journee-de-celebration-des-quatre-t
 emps-dautomne-et-celebration-de-saint-francois-dassise/
SUMMARY:Journée de célébration des Quatre-Temps d'Automne et célébrati
 on de saint François d'Assise
DESCRIPTION:“Que se passe-t-il en automne quand on est paysan ?”\nLes Q
 uatre-Temps étaient présents dans la liturgie catholique dès le IVe si
 ècle\, quand l’année liturgique était en partie rythmée par les sais
 ons. Les Quatre-Temps comportaient jeûne\, messe et vigile (veillée litu
 rgique) du samedi. La nature est un livre ouvert par lequel l’Esprit nou
 s parle. En effet\, le Créateur se donne à découvrir dans sa création\
 , qu’Il anime au quotidien. Le cycle des saisons est ainsi un cycle de p
 rogression spirituelle\, car chacun des Quatre-Temps nous apporte un ensei
 gnement de vie. L’automne est une saison d’enfouissement \; la graine 
 est confiée à la glèbe.\nLes semailles nous appellent à l’espérance
  : il faut commencer par s’ancrer dans la Terre\, pour pouvoir s’élev
 er vers le Ciel. Chaque saison prépare la suivante et ne peut être compr
 ise que si l’on considère sa place dans le grand cycle de la Vie. Nous 
 prendrons aussi le temps de célébrer saint François d' Assise qui a vé
 cu cela bien avant nous !\n\nINTERVENANTS :\nEric SIMON\, ingénieur agron
 ome et éleveur de porcs bio\, CALES (Lot)\nP. Bertrand CORMIER\, prêtre 
 et REI du diocèse de Cahors\, CHJB\n\nhttps://centreheleneetjeanbastaire.
 fr/
ATTACH;FMTTYPE=image/jpeg:https://www.egliseverte.org/wp-content/uploads/2
 025/08/4-temps.webp
LOCATION:Centre Hélène et Jean Bastaire (46)\, 190\, route de l'ancienne 
 école\, Berganty\, Lot\, 46090\, Occitanie\, France
GEO:44.449212;1.639576
X-APPLE-STRUCTURED-LOCATION;VALUE=URI;X-ADDRESS=190\, route de l'ancienne 
 école\, Berganty\, Lot\, 46090\, Occitanie\, France;X-APPLE-RADIUS=100;X-
 TITLE=Centre Hélène et Jean Bastaire (46):geo:44.449212,1.639576
END:VEVENT
BEGIN:VTIMEZONE
TZID:Europe/Paris
X-LIC-LOCATION:Europe/Paris
BEGIN:DAYLIGHT
DTSTART:20250330T030000
TZOFFSETFROM:+0100
TZOFFSETTO:+0200
TZNAME:CEST
END:DAYLIGHT
END:VTIMEZONE
END:VCALENDAR