BEGIN:VCALENDAR
VERSION:2.0
PRODID:-//wp-events-plugin.com//7.2.3.1//EN
TZID:Europe/Paris
X-WR-TIMEZONE:Europe/Paris
BEGIN:VEVENT
UID:522@egliseverte.org
DTSTART;TZID=Europe/Paris:20251213T150000
DTEND;TZID=Europe/Paris:20251213T203000
DTSTAMP:20250903T091335Z
URL:https://www.egliseverte.org/agenda/journee-de-celebration-des-quatre-t
 emps-dhiver/
SUMMARY:Journée de célébration des Quatre-Temps d'Hiver
DESCRIPTION:“Que se passe-t-il en hiver quand on est paysan ?”. Les Qua
 tre-Temps étaient présents dans la liturgie catholique dès le IVe sièc
 le\, quand l’année liturgique était en partie rythmée par les saisons
 . Les Quatre-Temps comportaient jeûne\, messe et vigile (veillée liturgi
 que) du samedi.\nLa nature est un livre ouvert par lequel l’Esprit nous 
 parle. En effet\, le Créateur se donne à découvrir dans sa Création\, 
 qu’Il anime au quotidien. Le cycle des saisons est ainsi un cycle de pro
 gression spirituelle\, car chacun des quatre temps nous apporte un enseign
 ement de vie. L’hiver marque la fin du cycle\, nous rappelant ainsi que 
 la mort fait aussi partie de la Vie. Mais elle n’est qu’une étape qui
  nous conduira vers un nouveau printemps de renaissance. Chaque saison pr
 épare la suivante et ne peut être comprise que si l’on considère sa p
 lace dans le grand cycle de la Vie.\n\nIntervenants :\n\nEric Simon\, pays
 an\, ingénieur agronome et éleveur de porcs bio\, Calès (Lot)\nP. Bertr
 and Cormier\, CHJB\, prêtre et REI du diocèse de Cahors\n\nFrais d’ani
 mation : 12 €\nFrais d’animation Étudiants/Chômeur/Retraité : 6 €
ATTACH;FMTTYPE=image/jpeg:https://www.egliseverte.org/wp-content/uploads/2
 025/08/4-temps.webp
LOCATION:Centre Hélène et Jean Bastaire (46)\, 190\, route de l'ancienne 
 école\, Berganty\, Lot\, 46090\, Occitanie\, France
GEO:44.449212;1.639576
X-APPLE-STRUCTURED-LOCATION;VALUE=URI;X-ADDRESS=190\, route de l'ancienne 
 école\, Berganty\, Lot\, 46090\, Occitanie\, France;X-APPLE-RADIUS=100;X-
 TITLE=Centre Hélène et Jean Bastaire (46):geo:44.449212,1.639576
END:VEVENT
BEGIN:VTIMEZONE
TZID:Europe/Paris
X-LIC-LOCATION:Europe/Paris
BEGIN:STANDARD
DTSTART:20251026T020000
TZOFFSETFROM:+0200
TZOFFSETTO:+0100
TZNAME:CET
END:STANDARD
END:VTIMEZONE
END:VCALENDAR