BEGIN:VCALENDAR
VERSION:2.0
PRODID:-//wp-events-plugin.com//7.2.3.1//EN
TZID:Europe/Paris
X-WR-TIMEZONE:Europe/Paris
BEGIN:VEVENT
UID:559@egliseverte.org
DTSTART;TZID=Europe/Paris;VALUE=DATE:20250920
DTEND;TZID=Europe/Paris;VALUE=DATE:20250921
DTSTAMP:20250912T145124Z
URL:https://www.egliseverte.org/agenda/journee-de-la-creation-en-touraine/
SUMMARY:Journée de la Création en Touraine
DESCRIPTION:Journée de la Création 2025\n\n"La Journée de la Création\,
  en Touraine s’inscrit dans le Temps pour la Création.\nLe Temps pour l
 a Création est la célébration chrétienne annuelle pour prier et répon
 dre ensemble au cri de la Création : la famille œcuménique du monde ent
 ier s’unit pour contempler et prendre soin de notre maison commune\, l
 ’Oikos de Dieu."\n\nElle a lieu cette année dans le chinonais samedi 20
  septembre\, de 9h30 à 16h.\n\nAu programme :\n\n9h30 : randonnée de 4km
 . RV à l'église protestante évangélique de Chinon\, 6 bis avenue St-La
 zare - avec la participation de la SEPANT (Société d'Etudes de Protectio
 n et d'Aménagements de la Nature en Touraine)- Visite commentée de l'Egl
 ise Notre-Dame de Rivière.\n\n12h30 : pique-nique tiré du sac à proximi
 té de la chapelle ND de Rivière\n\n13h30 : randonnée de 3\,5 km et reto
 ur par les vignes\n\n15h : célébration\n\n16h : fin de la journée\n*La 
 marche sera également l'occasion de nettoyer le chemin parcouru avec le r
 amassage des déchets.\n\nJournée organisée par :\n\nle groupe œcuméni
 que du chinonais \,\nle Pôle diocésain des questions écologiques\,\net 
 avec la participation de la SEPANT (Société d'Etudes\, de Protection et 
 d'Aménagement de la Nature en Touraine)\nInscription souhaitée\n\nCONTAC
 T :\nTél. 06 62 48 41 13\nCourriel : journeedelacreation37@lilo.org
ATTACH;FMTTYPE=image/jpeg:https://www.egliseverte.org/wp-content/uploads/2
 025/09/affiche_journee_pour_la_creation_2025.png
LOCATION:Eglise protestante Evangélique de Chinon\, 6 bis avenue St Lazare
 \, CHINON\, 37\, 37500\, Centre Val de Loire\, France
GEO:47.151496;0.235959
X-APPLE-STRUCTURED-LOCATION;VALUE=URI;X-ADDRESS=6 bis avenue St Lazare\, CH
 INON\, 37\, 37500\, Centre Val de Loire\, France;X-APPLE-RADIUS=100;X-TITL
 E=Eglise protestante Evangélique de Chinon:geo:47.151496,0.235959
END:VEVENT
BEGIN:VTIMEZONE
TZID:Europe/Paris
X-LIC-LOCATION:Europe/Paris
BEGIN:DAYLIGHT
DTSTART:20250330T030000
TZOFFSETFROM:+0100
TZOFFSETTO:+0200
TZNAME:CEST
END:DAYLIGHT
END:VTIMEZONE
END:VCALENDAR