BEGIN:VCALENDAR
VERSION:2.0
PRODID:-//wp-events-plugin.com//7.2.3.1//EN
TZID:Europe/Paris
X-WR-TIMEZONE:Europe/Paris
BEGIN:VEVENT
UID:598@egliseverte.org
DTSTART;TZID=Europe/Paris:20251005T110000
DTEND;TZID=Europe/Paris:20251005T163000
DTSTAMP:20251006T090341Z
URL:https://www.egliseverte.org/agenda/journee-de-la-creation-et-de-la-fra
 ternite/
SUMMARY:Journée de la Création et de la Fraternité
DESCRIPTION:Journée paroissiale qui achève le Temps de la Création\nà 1
 1h: messe de la Création\nà 12h30 : pique-nique partagé\nà 14h : aprè
 s-midi de témoignages : animations par des paroissiens de cultures diffé
 rentes pour partager la manière dont\, dans leur culture\, on prend soin 
 de la création et des frères.
LOCATION:Eglise St-Joseph\, rue Madeleine Blin\, Creil\, Oise\, 60100\, Hau
 ts de France\, France
GEO:49.254033;2.4731
X-APPLE-STRUCTURED-LOCATION;VALUE=URI;X-ADDRESS=rue Madeleine Blin\, Creil\
 , Oise\, 60100\, Hauts de France\, France;X-APPLE-RADIUS=100;X-TITLE=Eglis
 e St-Joseph:geo:49.254033,2.4731
END:VEVENT
BEGIN:VTIMEZONE
TZID:Europe/Paris
X-LIC-LOCATION:Europe/Paris
BEGIN:DAYLIGHT
DTSTART:20250330T030000
TZOFFSETFROM:+0100
TZOFFSETTO:+0200
TZNAME:CEST
END:DAYLIGHT
END:VTIMEZONE
END:VCALENDAR