BEGIN:VCALENDAR
VERSION:2.0
PRODID:-//wp-events-plugin.com//7.2.3.1//EN
TZID:Europe/Paris
X-WR-TIMEZONE:Europe/Paris
BEGIN:VEVENT
UID:586@egliseverte.org
DTSTART;TZID=Europe/Paris;VALUE=DATE:20250928
DTEND;TZID=Europe/Paris;VALUE=DATE:20250929
DTSTAMP:20250926T082827Z
URL:https://www.egliseverte.org/agenda/journee-de-la-creation/
SUMMARY:Journée de la création
DESCRIPTION:Nous vous invitons à prier ensemble pour la paix\, pour célé
 brer ensemble la beauté de la création\n\nle Dimanche 28 septembre\n9 h 
 30 Célébration eucharistique\nVerre de l'amitié\n11 h 30 Réflexion-par
 tage sur le thème du "temps"\n12 h 30 Repas partagé : apporter un plat s
 alé ou sucré\, et ses couverts !\n14 h 30 Temps éco-spirituel\nTemps pe
 rsonnel d'action de grâce\nsuivi des Vêpres\n\nNous serons heureuses de 
 vous accueillir\, de partager\, de prier ensemble\, de nous encourager mut
 uellement à prendre soin de la Création\, qui nous a été confiée.\nVo
 us pouvez venir toute la journée ou seulement une partie\, selon vos poss
 ibilités.
ATTACH;FMTTYPE=image/jpeg:https://www.egliseverte.org/wp-content/uploads/2
 025/06/Temps-pour-la-Creation1.jpg
LOCATION:Monastère des Bénédictines\, Pied Foulard\, Prailles La Couarde
 \, 79\, 79370\, Nouvelle Aquitaine\, France
GEO:46.317413;-0.197057
X-APPLE-STRUCTURED-LOCATION;VALUE=URI;X-ADDRESS=Pied Foulard\, Prailles La 
 Couarde\, 79\, 79370\, Nouvelle Aquitaine\, France;X-APPLE-RADIUS=100;X-TI
 TLE=Monastère des Bénédictines:geo:46.317413,-0.197057
END:VEVENT
BEGIN:VTIMEZONE
TZID:Europe/Paris
X-LIC-LOCATION:Europe/Paris
BEGIN:DAYLIGHT
DTSTART:20250330T030000
TZOFFSETFROM:+0100
TZOFFSETTO:+0200
TZNAME:CEST
END:DAYLIGHT
END:VTIMEZONE
END:VCALENDAR