BEGIN:VCALENDAR
VERSION:2.0
PRODID:-//wp-events-plugin.com//7.2.3.1//EN
TZID:Europe/Paris
X-WR-TIMEZONE:Europe/Paris
BEGIN:VEVENT
UID:502@egliseverte.org
DTSTART;TZID=Europe/Paris:20250705T093000
DTEND;TZID=Europe/Paris:20250705T160000
DTSTAMP:20250627T115454Z
URL:https://www.egliseverte.org/agenda/journee-decouverte-sur-les-hautes-c
 haumes-42/
SUMMARY:JOURNEE DECOUVERTE SUR LES HAUTES CHAUMES (42)
DESCRIPTION:L’équipe Église verte Saint Vincent en Lignon vous propose 
 une marche sur les Hautes Chaumes pour découvrir ou redécouvrir les rich
 esses de notre patrimoine naturel.\nMatin :\nDécouverte des tourbières c
 ommentée par Hervé CUBIZOLLE\, Professeur à l’Université Jean MONNET
  de SAINT ETIENNE et Agathe POTHIN\, doctorante en géographie et professe
 ur d'histoire-géographie au lycée de Boën-sur-Lignon. Un carottage sera
  réalisé pour montrer comment se réalise l’analyse du terrain et ses 
 différentes composantes. Ils nous feront découvrir la tourbe : ses const
 ituants\, ses utilisations depuis plusieurs siècles et son intérêt éco
 logique pour la terre. Distance prévue environ 3 km.\n\nPique nique tiré
  du sac\n\nDébut d’après –midi :\nNous irons à la source du Lignon 
 pour prendre un temps de contemplation de cette nature qui nous entoure. D
 istance prévue environ 5 km\n\nFin de la journée vers 16 h\nTélécharge
 r le flyer
ATTACH;FMTTYPE=image/jpeg:https://www.egliseverte.org/wp-content/uploads/2
 025/06/Capture-decran-du-2025-06-27-13-47-47.png
LOCATION:col du Béal\, col du Béal\, col du Béal\, France
X-APPLE-STRUCTURED-LOCATION;VALUE=URI;X-ADDRESS=col du Béal\, col du Béal
 \, France;X-APPLE-RADIUS=100;X-TITLE=col du Béal:geo:0,0
END:VEVENT
BEGIN:VTIMEZONE
TZID:Europe/Paris
X-LIC-LOCATION:Europe/Paris
BEGIN:DAYLIGHT
DTSTART:20250330T030000
TZOFFSETFROM:+0100
TZOFFSETTO:+0200
TZNAME:CEST
END:DAYLIGHT
END:VTIMEZONE
END:VCALENDAR