BEGIN:VCALENDAR
VERSION:2.0
PRODID:-//wp-events-plugin.com//7.2.3.1//EN
TZID:Europe/Paris
X-WR-TIMEZONE:Europe/Paris
BEGIN:VEVENT
UID:655@egliseverte.org
DTSTART;TZID=Europe/Paris:20260411T090000
DTEND;TZID=Europe/Paris:20260411T173000
DTSTAMP:20260302T171830Z
URL:https://www.egliseverte.org/agenda/journee-detude-penser-ensemble-soin
 -de-la-creation-et-souci-des-pauvres-perspectives-evangeliques-contemporai
 nes/
SUMMARY:Journée d'étude "Penser ensemble soin de la création et souci de
 s pauvres : perspectives évangéliques contemporaines"
DESCRIPTION:9h00 : Accueil\n9h30-10h45 Clément Blanc : Quelle place pour l
 e discours des spécialistes de l’environnement dans une herméneutique 
 évangélique ?\n10h45-12h00 Daniel Hillion Pour une lecture protestante 
 évangélique de Laudato Si'.\n12h00-13h30 Repas\n13h30-14h45 Marjorie Leg
 endre : La crise écologique et la crise sociale comme structures de péch
 é : que dire\, qu’en penser\, que faire ?\n14h45-16h00 Rachel Calvert :
  Que ta volonté soit faite sur la Terre : souci du pauvre et soin de la c
 réation dans une perspective missiologique\n16h-16h30 Pause\n16h30-17h30 
 Table ronde avec les intervenants des quatre conférences\n\nhttps://flte.
 fr/journee-detude-penser-ensemble-soin-de-la-creation-souci-des-pauvres/
ATTACH;FMTTYPE=image/jpeg:https://www.egliseverte.org/wp-content/uploads/2
 026/03/Journee-detude-11-avril-visuel-web.png
LOCATION:Campus Faculté libre de théologie évangélique\, 85 Avenue de C
 herbourg\, 78740 France \, Vaux-sur-Seine\, 78740\, Île-de-France\, Franc
 e
GEO:49.008632;1.938571
X-APPLE-STRUCTURED-LOCATION;VALUE=URI;X-ADDRESS=85 Avenue de Cherbourg\, 78
 740 France \, Vaux-sur-Seine\, 78740\, Île-de-France\, France;X-APPLE-RAD
 IUS=100;X-TITLE=Campus Faculté libre de théologie évangélique:geo:49.0
 08632,1.938571
END:VEVENT
BEGIN:VTIMEZONE
TZID:Europe/Paris
X-LIC-LOCATION:Europe/Paris
BEGIN:DAYLIGHT
DTSTART:20260329T030000
TZOFFSETFROM:+0100
TZOFFSETTO:+0200
TZNAME:CEST
END:DAYLIGHT
END:VTIMEZONE
END:VCALENDAR