BEGIN:VCALENDAR
VERSION:2.0
PRODID:-//wp-events-plugin.com//7.2.3.1//EN
TZID:Europe/Paris
X-WR-TIMEZONE:Europe/Paris
BEGIN:VEVENT
UID:316@egliseverte.org
DTSTART;TZID=Europe/Paris:20240505T090000
DTEND;TZID=Europe/Paris:20240505T173000
DTSTAMP:20240326T164010Z
URL:https://www.egliseverte.org/agenda/journee-diocesaine-eglise-verte-40/
SUMMARY:Journée diocésaine Église verte (40)
DESCRIPTION:Nous organisons la 1ère journée diocésaine Église verte des
  Landes dimanche 5 mai 2024 à l'Abbaye de Maylis.\nCe sera l'occasion de 
 faire connaissance\, de partager nos actions et nos projets\, d'écouter l
 e témoignage de Frère Joseph et de visiter le site de Maylis.\n\nhttps:/
 /diocese40.fr/
ATTACH;FMTTYPE=image/jpeg:https://www.egliseverte.org/wp-content/uploads/2
 024/03/6384c6a2f99ca8d66cc7168f_Abbaye-Notre-Dame-Maylis-Landes-benedictin
 s-olivetains-retraite-spirituelle-vue-aerienne.png
LOCATION:Abbaye de Maylis\, Abbaye Notre Dame de Maylis\,  MAYLIS\, 40250\,
  France
X-APPLE-STRUCTURED-LOCATION;VALUE=URI;X-ADDRESS=Abbaye Notre Dame de Maylis
 \,  MAYLIS\, 40250\, France;X-APPLE-RADIUS=100;X-TITLE=Abbaye de Maylis:ge
 o:0,0
END:VEVENT
BEGIN:VTIMEZONE
TZID:Europe/Paris
X-LIC-LOCATION:Europe/Paris
BEGIN:DAYLIGHT
DTSTART:20240331T030000
TZOFFSETFROM:+0100
TZOFFSETTO:+0200
TZNAME:CEST
END:DAYLIGHT
END:VTIMEZONE
END:VCALENDAR