BEGIN:VCALENDAR
VERSION:2.0
PRODID:-//wp-events-plugin.com//7.2.3.1//EN
TZID:Europe/Paris
X-WR-TIMEZONE:Europe/Paris
BEGIN:VEVENT
UID:557@egliseverte.org
DTSTART;TZID=Europe/Paris:20251004T090000
DTEND;TZID=Europe/Paris:20251004T153000
DTSTAMP:20250912T125041Z
URL:https://www.egliseverte.org/agenda/journee-lyonnaise-10-ans-de-laudato
 -si/
SUMMARY:Journée lyonnaise 10 ans de Laudato Si'
DESCRIPTION:9h Accueil par le Secours Catholique\n9h45 Table Ronde\, 10 ans
  de Laudato Si'\, avec Emeline Baume (VP métropole de Lyon)\, Nwowe Wanfa
 o sj\, Antoine Rolland (Église verte) et Thomas Lemasle\, fondateur et di
 recteur de Oé\n11h30 Témoignage du SAPPEL\n12h30 Repas partagé\, à par
 tir des plats apportés par chacun (cuisinés en circuit court)\npuis atel
 iers ludiques\n15h30 Célébration œcuménique
ATTACH;FMTTYPE=image/jpeg:https://www.egliseverte.org/wp-content/uploads/2
 025/09/10-ANS-LAUDATO-04-10-25.jpg
LOCATION:Halte de Vaise\, 26 rue Laporte\, LYON\, 69009\, France
GEO:45.778024;4.803128
X-APPLE-STRUCTURED-LOCATION;VALUE=URI;X-ADDRESS=26 rue Laporte\, LYON\, 690
 09\, France;X-APPLE-RADIUS=100;X-TITLE=Halte de Vaise:geo:45.778024,4.8031
 28
END:VEVENT
BEGIN:VTIMEZONE
TZID:Europe/Paris
X-LIC-LOCATION:Europe/Paris
BEGIN:DAYLIGHT
DTSTART:20250330T030000
TZOFFSETFROM:+0100
TZOFFSETTO:+0200
TZNAME:CEST
END:DAYLIGHT
END:VTIMEZONE
END:VCALENDAR