BEGIN:VCALENDAR
VERSION:2.0
PRODID:-//wp-events-plugin.com//7.2.3.1//EN
TZID:Europe/Paris
X-WR-TIMEZONE:Europe/Paris
BEGIN:VEVENT
UID:585@egliseverte.org
DTSTART;TZID=Europe/Paris:20251004T090000
DTEND;TZID=Europe/Paris:20251004T163000
DTSTAMP:20250925T160726Z
URL:https://www.egliseverte.org/agenda/journee-mouvements-laudatosi-planet
 e-territoire-personne/
SUMMARY:Journée des mouvements autour de Laudato Si' : La planète\, le te
 rritoire\, la personne
DESCRIPTION:A l'occasion des 10 ans de l'encyclique "Laudato si" et de la m
 aison diocésaine Saint François de Sales (label Église verte) les mouve
 ments d'action catholique du diocèse d'Amiens vous invitent\nLe matin à 
 participer à l'atelier 2 tonnes\nL'après midi\nConférence : La planète
 \, le territoire\, la personne\nQuels sont mon espérance et mon désir de
  changement ?\nDes expériences croisant notamment environnement\, économ
 ie et équité sociale nous stimulent.\nEn lien avec l'encyclique "Laudato
  si" quels chemins de transformation pouvons-nous imaginer et construire ?
ATTACH;FMTTYPE=image/jpeg:https://www.egliseverte.org/wp-content/uploads/2
 025/09/Assise1-282-Copie.jpg
LOCATION:Maison diocésaine Saint François de Sales\, 384 rue Saint Fuscie
 n\, Amiens\, 80000\, France
GEO:49.874167;2.304828
X-APPLE-STRUCTURED-LOCATION;VALUE=URI;X-ADDRESS=384 rue Saint Fuscien\, Ami
 ens\, 80000\, France;X-APPLE-RADIUS=100;X-TITLE=Maison diocésaine Saint F
 rançois de Sales:geo:49.874167,2.304828
END:VEVENT
BEGIN:VTIMEZONE
TZID:Europe/Paris
X-LIC-LOCATION:Europe/Paris
BEGIN:DAYLIGHT
DTSTART:20250330T030000
TZOFFSETFROM:+0100
TZOFFSETTO:+0200
TZNAME:CEST
END:DAYLIGHT
END:VTIMEZONE
END:VCALENDAR