BEGIN:VCALENDAR
VERSION:2.0
PRODID:-//wp-events-plugin.com//7.2.3.1//EN
TZID:Europe/Paris
X-WR-TIMEZONE:Europe/Paris
BEGIN:VEVENT
UID:582@egliseverte.org
DTSTART;TZID=Europe/Paris:20251005T000000
DTEND;TZID=Europe/Paris:20251005T000000
DTSTAMP:20250924T141952Z
URL:https://www.egliseverte.org/agenda/journee-pour-la-creation-2025/
SUMMARY:Journée pour la Création 2025
DESCRIPTION:S'inscrire nous faciliterait l'organisation.
ATTACH;FMTTYPE=image/jpeg:https://www.egliseverte.org/wp-content/uploads/2
 025/09/Flyer-5-OCTOBRE-2025.png
LOCATION:Eglise St Jean-Marie Vianney\, 176 Bd du Général de Gaulle\, Con
 flans Ste Honorine\, 78700\, Ile de France\, France
GEO:49.006827;2.113698
X-APPLE-STRUCTURED-LOCATION;VALUE=URI;X-ADDRESS=176 Bd du Général de Gaul
 le\, Conflans Ste Honorine\, 78700\, Ile de France\, France;X-APPLE-RADIUS
 =100;X-TITLE=Eglise St Jean-Marie Vianney:geo:49.006827,2.113698
END:VEVENT
BEGIN:VTIMEZONE
TZID:Europe/Paris
X-LIC-LOCATION:Europe/Paris
BEGIN:DAYLIGHT
DTSTART:20250330T030000
TZOFFSETFROM:+0100
TZOFFSETTO:+0200
TZNAME:CEST
END:DAYLIGHT
END:VTIMEZONE
END:VCALENDAR