BEGIN:VCALENDAR
VERSION:2.0
PRODID:-//wp-events-plugin.com//7.2.3.1//EN
TZID:Europe/Paris
X-WR-TIMEZONE:Europe/Paris
BEGIN:VEVENT
UID:387@egliseverte.org
DTSTART;TZID=Europe/Paris:20240929T100000
DTEND;TZID=Europe/Paris:20240929T140000
DTSTAMP:20240909T103253Z
URL:https://www.egliseverte.org/agenda/journee-pour-la-creation-59/
SUMMARY:Journée pour la Création (59)
DESCRIPTION:Marche méditative\, messe en plein air et pique-nique à Sebou
 rg\n\nhttps://www.notredamedusaintcordon.fr/eglise-verte.html
ATTACH;FMTTYPE=image/jpeg:https://www.egliseverte.org/wp-content/uploads/2
 024/09/Flyer-NDStCordonValenciennes-29.09.24.jpg
LOCATION:église Sainte Marie-Madeleine\, rue de l'Aunelle\, Sebourg\, Fran
 ce / Nord\, 59990\, Hauts de France\, France
X-APPLE-STRUCTURED-LOCATION;VALUE=URI;X-ADDRESS=rue de l'Aunelle\, Sebourg\
 , France / Nord\, 59990\, Hauts de France\, France;X-APPLE-RADIUS=100;X-TI
 TLE=église Sainte Marie-Madeleine:geo:0,0
END:VEVENT
BEGIN:VTIMEZONE
TZID:Europe/Paris
X-LIC-LOCATION:Europe/Paris
BEGIN:DAYLIGHT
DTSTART:20240331T030000
TZOFFSETFROM:+0100
TZOFFSETTO:+0200
TZNAME:CEST
END:DAYLIGHT
END:VTIMEZONE
END:VCALENDAR