BEGIN:VCALENDAR
VERSION:2.0
PRODID:-//wp-events-plugin.com//7.2.3.1//EN
TZID:Europe/Paris
X-WR-TIMEZONE:Europe/Paris
BEGIN:VEVENT
UID:540@egliseverte.org
DTSTART;TZID=Europe/Paris:20250914T120000
DTEND;TZID=Europe/Paris:20250914T160000
DTSTAMP:20250903T090559Z
URL:https://www.egliseverte.org/agenda/journee-pour-le-temps-pour-la-creat
 ion/
SUMMARY:Journée pour le Temps pour la Création
DESCRIPTION:12h repas tiré des sacs\n14h Conférence : Les chrétiens ont-
 ils quelque chose à dire sur l’écologie ? Ce que la Bible nous dit et 
 ce qu’elle ne nous dit pas\, par Laurence Rezeau\, correspondante Églis
 e verte pour la paroisse protestante de Bourg-la-Reine.\nEn parallèle une
  activité sera proposée pour les enfants\n\nPendant toute l'après-midi 
 l'exposition Église verte sera installée au Moutier
ATTACH;FMTTYPE=image/jpeg:https://www.egliseverte.org/wp-content/uploads/2
 025/06/Temps-pour-la-Creation1.jpg
LOCATION:Le Moutier (94)\, 11 avenue Aristide Briand\, L'Haÿ-les-Roses\, V
 al-de-Marne\, 94240\, Ile-de-France\, France
GEO:48.785963;2.318829
X-APPLE-STRUCTURED-LOCATION;VALUE=URI;X-ADDRESS=11 avenue Aristide Briand\,
  L'Haÿ-les-Roses\, Val-de-Marne\, 94240\, Ile-de-France\, France;X-APPLE-
 RADIUS=100;X-TITLE=Le Moutier (94):geo:48.785963,2.318829
END:VEVENT
BEGIN:VTIMEZONE
TZID:Europe/Paris
X-LIC-LOCATION:Europe/Paris
BEGIN:DAYLIGHT
DTSTART:20250330T030000
TZOFFSETFROM:+0100
TZOFFSETTO:+0200
TZNAME:CEST
END:DAYLIGHT
END:VTIMEZONE
END:VCALENDAR