BEGIN:VCALENDAR
VERSION:2.0
PRODID:-//wp-events-plugin.com//7.2.3.1//EN
TZID:Europe/Paris
X-WR-TIMEZONE:Europe/Paris
BEGIN:VEVENT
UID:491@egliseverte.org
DTSTART;TZID=Europe/Paris;VALUE=DATE:20250524
DTEND;TZID=Europe/Paris;VALUE=DATE:20250526
DTSTAMP:20250515T090124Z
URL:https://www.egliseverte.org/agenda/journees-chretiennes-de-lecologie/
SUMMARY:Journées chrétiennes de l'écologie
DESCRIPTION:Venez nombreuses et nombreux aux premières Journées Chrétien
 nes de l'Ecologie qui auront lieu le week-end du 24 et 25 mai 2025 à Nanc
 y\, 58ter rue des 4 églises.\nAu programme\, des expositions\, conférenc
 es\, tables rondes\, balades\, fresques diverses et jeux de société\, et
 c... ainsi qu'un village associatif le samedi de 10h à 17h.\n\nhttps://ww
 w.catholique-nancy.fr/sites/service-diocesain-de-la-solidarite-et-de-la-di
 aconie/agenda/92590-journees-chretiennes-de-lecologie-10-ans-de-lencycliqu
 e-laudato-si/
ATTACH;FMTTYPE=image/jpeg:https://www.egliseverte.org/wp-content/uploads/2
 025/05/Journees-chretiennes-de-lecologie.jpg
LOCATION:Maison mère des soeurs de saint charles\, 58ter rue des 4 église
 s\, Nancy\, Meurthe-et-Moselle\, 54000\, Grand Est\, France
X-APPLE-STRUCTURED-LOCATION;VALUE=URI;X-ADDRESS=58ter rue des 4 églises\, 
 Nancy\, Meurthe-et-Moselle\, 54000\, Grand Est\, France;X-APPLE-RADIUS=100
 ;X-TITLE=Maison mère des soeurs de saint charles:geo:0,0
END:VEVENT
BEGIN:VTIMEZONE
TZID:Europe/Paris
X-LIC-LOCATION:Europe/Paris
BEGIN:DAYLIGHT
DTSTART:20250330T030000
TZOFFSETFROM:+0100
TZOFFSETTO:+0200
TZNAME:CEST
END:DAYLIGHT
END:VTIMEZONE
END:VCALENDAR