BEGIN:VCALENDAR
VERSION:2.0
PRODID:-//wp-events-plugin.com//7.2.3.1//EN
TZID:Europe/Paris
X-WR-TIMEZONE:Europe/Paris
BEGIN:VEVENT
UID:610@egliseverte.org
DTSTART;TZID=Europe/Paris:20251210T200000
DTEND;TZID=Europe/Paris:20251210T220000
DTSTAMP:20251117T114828Z
URL:https://www.egliseverte.org/agenda/kairos-decouverte-de-la-doctrine-so
 ciale-de-leglise/
SUMMARY:Kairos - Découverte de la Doctrine Sociale de l'Eglise
DESCRIPTION:Vous souhaitez découvrir la doctrine sociale de l’Église ?\
 n\nLe Ceras vous propose une soirée de 2h avec exposé\, partage en group
 e et activités interactives pour plonger dans les textes.\n\nCe sera auss
 i l'occasion de découvrir la pédagogie jésuite proposée dans Kairos\, 
 notre parcours de formation à la doctrine sociale et de vous inscrire au 
 parcours ensuite si vous le souhaitez.\n\nhttps://framaforms.org/soiree-de
 couverte-de-la-doctrine-sociale-10-decembre-2025-1761225378
ATTACH;FMTTYPE=image/jpeg:https://www.egliseverte.org/wp-content/uploads/2
 025/11/aFFICHE-Formez-vous-a-lenseignement-social-de-lEglise-1.png
LOCATION:https://framaforms.org/soiree-decouverte-de-la-doctrine-sociale-10
 -decembre-2025-1761225378
END:VEVENT
BEGIN:VTIMEZONE
TZID:Europe/Paris
X-LIC-LOCATION:Europe/Paris
BEGIN:STANDARD
DTSTART:20251026T020000
TZOFFSETFROM:+0200
TZOFFSETTO:+0100
TZNAME:CET
END:STANDARD
END:VTIMEZONE
END:VCALENDAR