BEGIN:VCALENDAR
VERSION:2.0
PRODID:-//wp-events-plugin.com//7.2.3.1//EN
TZID:Europe/Paris
X-WR-TIMEZONE:Europe/Paris
BEGIN:VEVENT
UID:210@egliseverte.org
DTSTART;TZID=Europe/Paris:20220911T080000
DTEND;TZID=Europe/Paris:20220912T093000
DTSTAMP:20231120T160615Z
URL:https://www.egliseverte.org/agenda/koffi-st-fe-13-2022-09-11/
SUMMARY:Koffi-St Fé (13)
DESCRIPTION:Le « Koffi St Fé » est sans doute le point d’orgue de la
  démarche Eglise Verte du sanctuaire de St Ferréol.\nDes équipes\, cons
 tituées d’habitués du sanctuaire et aussi plus largement d’autres gr
 oupes (jeunes d’établissements\nscolaires) y sont présentes tous les d
 imanches matin pour le service du petit déjeuner pour les gens de la rue 
 et les\npersonnes isolées. La proposition du Koffi du dimanche est celle 
 d’une Eglise de la miséricorde\, le déploiement d’une\naction qui me
 t en relation des accueillants et des accueillis et qui tisse des liens de
  fraternité et d’écoute entre tous\nles participants. « Notre devise
  : ne pas seulement servir\, mais aussi prendre un peu de temps pour gran
 dir en\nfraternité avec celui que l’on sert ».
ATTACH;FMTTYPE=image/jpeg:https://www.egliseverte.org/wp-content/uploads/2
 022/07/Solidarite-e1661252191706.png
LOCATION:13001 Marseille\, 1 Quai des Belges\, Marseille\, France\, 13005\,
  PACA\, France
GEO:43.295356;5.374546
X-APPLE-STRUCTURED-LOCATION;VALUE=URI;X-ADDRESS=1 Quai des Belges\, Marseil
 le\, France\, 13005\, PACA\, France;X-APPLE-RADIUS=100;X-TITLE=13001 Marse
 ille:geo:43.295356,5.374546
END:VEVENT
BEGIN:VTIMEZONE
TZID:Europe/Paris
X-LIC-LOCATION:Europe/Paris
BEGIN:DAYLIGHT
DTSTART:20220327T030000
TZOFFSETFROM:+0100
TZOFFSETTO:+0200
TZNAME:CEST
END:DAYLIGHT
END:VTIMEZONE
END:VCALENDAR