BEGIN:VCALENDAR
VERSION:2.0
PRODID:-//wp-events-plugin.com//7.2.3.1//EN
TZID:Europe/Paris
X-WR-TIMEZONE:Europe/Paris
BEGIN:VEVENT
UID:207@egliseverte.org
DTSTART;TZID=Europe/Paris:20220921T100000
DTEND;TZID=Europe/Paris:20220921T120000
DTSTAMP:20231120T160611Z
URL:https://www.egliseverte.org/agenda/la-caravane-de-la-creation-15-2/
SUMMARY:La caravane de la création (15)
DESCRIPTION:Dans le cadre du Temps pour la Création\, le diocèse de Saint
 -Flour invite les habitants à venir visiter la caravane de la Création. 
 C'est l'idée d'abord d'itinérance\, d'aller à la rencontre\, aux périp
 héries\, en sortie\, en pérégrination\, en voyage... en prenant le temp
 s. C'est aussi un lieu qui veut susciter la surprise\, l'échange\, la con
 vivialité par un moyen innovant et créatif. Pour l'animer\, une expositi
 on "Laudato Si" du Pape François illustrée par Yann Arthus Bertrand (des
  exemplaires basiques de l'encyclique seront vendus aussi)\, des affiches 
 cartonnées racontant le début du Livre de la Genèse\, un grand coloriag
 e collaboratif\, des plantes aromatiques à sentir\, de la musique à ente
 ndre\, des vidéos à voir... Sur un plexigas\, il sera demandé à chaque
  doyenné d'écrire\, autour du tableau de la Création\, une courte priè
 re de louange. Des fiches prières seront aussi mises à disposition... De
 s questions aussi\, permettant de mieux comprendre les enjeux du dérègle
 ment climatique et des solutions\, individuelles et collectives.
ATTACH;FMTTYPE=image/jpeg:https://www.egliseverte.org/wp-content/uploads/2
 022/08/caravane-dessin.jpg
LOCATION:Place de l\\'Eglise\, Place de l'Eglise\, LE ROUGET\, France\, 152
 90\, France
GEO:44.854275;2.232463
X-APPLE-STRUCTURED-LOCATION;VALUE=URI;X-ADDRESS=Place de l'Eglise\, LE ROUG
 ET\, France\, 15290\, France;X-APPLE-RADIUS=100;X-TITLE=Place de l\\'Eglis
 e:geo:44.854275,2.232463
END:VEVENT
BEGIN:VTIMEZONE
TZID:Europe/Paris
X-LIC-LOCATION:Europe/Paris
BEGIN:DAYLIGHT
DTSTART:20220327T030000
TZOFFSETFROM:+0100
TZOFFSETTO:+0200
TZNAME:CEST
END:DAYLIGHT
END:VTIMEZONE
END:VCALENDAR