BEGIN:VCALENDAR
VERSION:2.0
PRODID:-//wp-events-plugin.com//7.2.3.1//EN
TZID:Europe/Paris
X-WR-TIMEZONE:Europe/Paris
BEGIN:VEVENT
UID:332@egliseverte.org
DTSTART;TZID=Europe/Paris:20240622T190000
DTEND;TZID=Europe/Paris:20240703T234500
DTSTAMP:20240524T105044Z
URL:https://www.egliseverte.org/agenda/la-nuit-des-eglises/
SUMMARY:La Nuit des Églises
DESCRIPTION:Depuis 2011\, la Nuit des Églises a pour but d'ouvrir au grand
  public les édifices religieux à l'occasion d'une manifestation artistiq
 ue nocturne\, afin d transmettre du sens aux visiteurs qui se présentent.
 \nÉglise verte est partenaire de l'événement et suggère aux communaut
 és labellisées de :\n- programmer une œuvre musicale traitant de la Cr
 éation\n- programmer une pièce de théâtre ou spectacle traitant du soi
 n de la Création\n- proposer une exposition\n- animer une veillée de pri
 ère pour la Création\n- verdir l'église\, la décorer et programmer des
  visites\n\nLa fiche pratique vous donnera tous renseignements à ce sujet
  : https://www.egliseverte.org/fiche/nuitdeseglises/\n\nVous pouvez visual
 iser les événements et ajouter le vôtre ici : https://openagenda.com/fr
 /la-nuit-des-eglises-2024-officiel
ATTACH;FMTTYPE=image/jpeg:https://www.egliseverte.org/wp-content/uploads/2
 024/05/Nuit-des-Eglises-2024-affiche-min-scaled.jpg
LOCATION:https://openagenda.com/fr/la-nuit-des-eglises-2024-officiel
END:VEVENT
BEGIN:VTIMEZONE
TZID:Europe/Paris
X-LIC-LOCATION:Europe/Paris
BEGIN:DAYLIGHT
DTSTART:20240331T030000
TZOFFSETFROM:+0100
TZOFFSETTO:+0200
TZNAME:CEST
END:DAYLIGHT
END:VTIMEZONE
END:VCALENDAR