BEGIN:VCALENDAR
VERSION:2.0
PRODID:-//wp-events-plugin.com//7.2.3.1//EN
TZID:Europe/Paris
X-WR-TIMEZONE:Europe/Paris
BEGIN:VEVENT
UID:556@egliseverte.org
DTSTART;TZID=Europe/Paris:20250928T100000
DTEND;TZID=Europe/Paris:20250928T110000
DTSTAMP:20250912T090548Z
URL:https://www.egliseverte.org/agenda/la-poesie-celebration-de-la-maison-
 commune/
SUMMARY:La poésie : célébration de la Maison commune
DESCRIPTION:Tout est lié \; la clameur de la terre et la clameur des pauvr
 es comme le dit le pape François\, mais aussi l'émerveillement devant le
  vivant\, devant la nature et le désir de la protéger.\nQui mieux que le
 s poétes l'ont célébrée !\nDans cet esprit\, l'Eglise verte de Bordeau
 x-Pellegrin propose de se retrouver le dimanche 28/09 de 10H à 11H\, plac
 e de l'église St Augustin\npour écouter et/ou dire les poèmes concernan
 t la fraternité et la nature.\nCeux/ celles qui désirent lire une poési
 e\, exposeront brièvement ce en quoi elle les a touchés.\nAfin de permet
 tre un déroulement facile\, ils auront envoyé le texte à odeblay@sfr.fr
  jusqu'au 27/09.
ATTACH;FMTTYPE=image/jpeg:https://www.egliseverte.org/wp-content/uploads/2
 025/09/flyer_0001-1.jpg
LOCATION:Place de l'église Saint Augustin (33)\, place de l'église saint 
 Augustin\, Bordeaux\, Gironde\, 33000\, Nouvelle-Aquitaine\, France
GEO:44.832351;-0.610508
X-APPLE-STRUCTURED-LOCATION;VALUE=URI;X-ADDRESS=place de l'église saint Au
 gustin\, Bordeaux\, Gironde\, 33000\, Nouvelle-Aquitaine\, France;X-APPLE-
 RADIUS=100;X-TITLE=Place de l'église Saint Augustin (33):geo:44.832351,-0
 .610508
END:VEVENT
BEGIN:VTIMEZONE
TZID:Europe/Paris
X-LIC-LOCATION:Europe/Paris
BEGIN:DAYLIGHT
DTSTART:20250330T030000
TZOFFSETFROM:+0100
TZOFFSETTO:+0200
TZNAME:CEST
END:DAYLIGHT
END:VTIMEZONE
END:VCALENDAR