BEGIN:VCALENDAR
VERSION:2.0
PRODID:-//wp-events-plugin.com//7.2.3.1//EN
TZID:Europe/Paris
X-WR-TIMEZONE:Europe/Paris
BEGIN:VEVENT
UID:467@egliseverte.org
DTSTART;TZID=Europe/Paris:20250401T180000
DTEND;TZID=Europe/Paris:20250401T200000
DTSTAMP:20250331T102205Z
URL:https://www.egliseverte.org/agenda/la-transition-ecologique-et-les-10-
 ans-de-lencyclique-laudato-si/
SUMMARY:La transition écologique et les 10 ans de l'encyclique Laudato Si'
DESCRIPTION:Il y a 10 ans\, le pape François a écrit l’encyclique Lauda
 to Si' « Sur la sauvegarde de la « maison commune »\nParlons-en !\nLe m
 ardi 1er avril 2025 de 18h à 20h\nA 18h précises – Accueil à partir d
 e 17h30\n\nPalais des Arts de Vannes – Salle du Golfe\n\nRencontre déba
 t\n\nClim’actions Bretagne organise le 1er avril à Vannes une rencontre
  autour des 10 ans de l’encyclique Laudato Si’\, mis en perspective av
 ec les 10 ans de l’accord de Paris.\n\nIl y a 10 ans\, le pape François
  a écrit l’encyclique Laudato Si' « Sur la sauvegarde de la maison com
 mune » Parlons-en ! Clim’actions Bretagne organise cette rencontre auto
 ur des 10 ans de l’encyclique Laudato Si’\, mis en perspective avec le
 s 10 ans de l’accord de Paris. Notre association est non-confessionnelle
  mais le texte du pape – largement reconnu comme une source d’inspirat
 ion universelle – invite au re-questionnement.\n\n–Nos intervenantes :
 \n\nAnne-Marie Tréguier\, océanographe physicienne\, directrice de reche
 rche au CNRS\, co-autrice du 6ième rapport du GIEC et co-présidente du H
 aut Conseil Breton pour le Climat\, qui apportera son point de vue scienti
 fique et sa connaissance des enjeux du territoire\n\nCécile Renouard\, ph
 ilosophe\, présidente-fondatrice du Campus de la transition qui forme ét
 udiants et professionnels à des modèles économiques et modes de vie coh
 érents avec la transition\, enseignante aux Facultés Loyola\, à l’Éc
 ole des Mines de Paris et à l’ESSEC\n\nCet évènement est organisé pa
 r Clim’actions Bretagne en partenariat avec le CCFD Terre Solidaire dél
 égation du Morbihan\, le mouvement Chrétiens dans le Monde Rural Morbiha
 n (CMR)\, l’association diocésaine de Vannes (Espace Montcalm) et avec 
 le soutien du Cèdre que nous remercions vivement.\n\nVotre inscription n
 ’est pas obligatoire mais elle facilite grandement l’organisation de c
 et événement !
ATTACH;FMTTYPE=image/jpeg:https://www.egliseverte.org/wp-content/uploads/2
 025/03/Flyer-Laudato-SI-1086x1536-1.png
LOCATION:Palais des Arts de Vannes – Salle du Golfe\, Place de Bretagne\,
  Vannes\, 56\, 56000\, Bretagne\, France
X-APPLE-STRUCTURED-LOCATION;VALUE=URI;X-ADDRESS=Place de Bretagne\, Vannes\
 , 56\, 56000\, Bretagne\, France;X-APPLE-RADIUS=100;X-TITLE=Palais des Art
 s de Vannes – Salle du Golfe:geo:0,0
END:VEVENT
BEGIN:VTIMEZONE
TZID:Europe/Paris
X-LIC-LOCATION:Europe/Paris
BEGIN:DAYLIGHT
DTSTART:20250330T030000
TZOFFSETFROM:+0100
TZOFFSETTO:+0200
TZNAME:CEST
END:DAYLIGHT
END:VTIMEZONE
END:VCALENDAR