BEGIN:VCALENDAR
VERSION:2.0
PRODID:-//wp-events-plugin.com//7.2.3.1//EN
TZID:Europe/Paris
X-WR-TIMEZONE:Europe/Paris
BEGIN:VEVENT
UID:604@egliseverte.org
DTSTART;TZID=Europe/Paris:20251028T113000
DTEND;TZID=Europe/Paris:20251031T143000
DTSTAMP:20251011T124818Z
URL:https://www.egliseverte.org/agenda/laudato-si-2025/
SUMMARY:Laudato si 2025
DESCRIPTION:Venez fêter les 10 ans de Laudato si avec la communauté de l'
 Emmanuel du 28 au 31 octobre 2025 à l'Ile Bouchard (37).\nPetite session 
 familiale accompagnée par le frère Benoît-Marie de la communauté st Je
 an de Notre Dame du Chêne.\nPartage d’expériences\, découverte du san
 ctuaire\, Présentation de Terre de Promesse (maraîchage)\, aide des scou
 ts de France pour les jeux des enfants\, balade éco-spirituelle le long d
 e la vienne...\nContact 06 61 24 45 28 : info sur l'hébergement + apporte
 r plats
ATTACH;FMTTYPE=image/jpeg:https://www.egliseverte.org/wp-content/uploads/2
 025/10/laudato-si-invit-2.png
LOCATION:Marigny\, Marigny \, ILE - BOUCHARD\, 37\, 37220\, TOURAINE\, Fran
 ce
GEO:47.11718;0.429505
X-APPLE-STRUCTURED-LOCATION;VALUE=URI;X-ADDRESS=Marigny \, ILE - BOUCHARD\,
  37\, 37220\, TOURAINE\, France;X-APPLE-RADIUS=100;X-TITLE=Marigny:geo:47.
 11718,0.429505
END:VEVENT
BEGIN:VTIMEZONE
TZID:Europe/Paris
X-LIC-LOCATION:Europe/Paris
BEGIN:STANDARD
DTSTART:20251026T020000
TZOFFSETFROM:+0200
TZOFFSETTO:+0100
TZNAME:CET
END:STANDARD
END:VTIMEZONE
END:VCALENDAR