BEGIN:VCALENDAR
VERSION:2.0
PRODID:-//wp-events-plugin.com//7.2.3.1//EN
TZID:Europe/Paris
X-WR-TIMEZONE:Europe/Paris
BEGIN:VEVENT
UID:479@egliseverte.org
DTSTART;TZID=Europe/Paris:20250516T000000
DTEND;TZID=Europe/Paris:20250518T000000
DTSTAMP:20250505T122752Z
URL:https://www.egliseverte.org/agenda/laudato-si-et-travail-qui-relie-dan
 s-les-pas-de-francois/
SUMMARY:Laudato Si' et Travail qui Relie\, Dans les pas de François
DESCRIPTION:Une retraite écospirituelle\, douce\, simple et naturelle pour
  vivre notre relation à la nature et à nous-mêmes dans le partage avec 
 d'autres personnes en chemin.\n\nLa grande maison "Ker Francesco &amp\; Lu
 na" à l'île aux moines (56) (baptisée en hommage au saint et au pape) s
 'ouvre pour accueillir une proposition spontanée de temps de partage\, de
  prière et de nature pour des personnes en recherche autour de la questio
 n écospirituelle et désireuses de vivre un temps spirituel au calme tout
  en approfondissant leur lien à la Terre et au Vivant.\n\nLes contenus :\
 n\n- Des ateliers expérienciels : Travail qui relie\, balades à la renco
 ntre des plantes sauvages\, cuisine sauvage...\n- Des temps de méditation
  et de prière dans l'espace dédié\n- Des temps d'écriture et de créat
 ion éco-artistiques\n- Des temps de lecture de l'encyclique et de textes 
 inspirants d'autres traditions\n- Des temps de partage en groupe\n- Des te
 mps au jardin\, les mains dans la terre\n- De la cuisine ensemble\, des ba
 lades\, des bains de mer et une option kayak possible\n- Du temps libre\n\
 nLa facilitation\nLe préparation et l'accompagnement de ces journées ser
 a portée par Christine Kristof – écojournaliste\, fondatrice de l’as
 sociation AnimaTerra et facilitatrice du Travail qui Relie\, habitante de 
 la maison\, et en gestion partagée pour certaines activités et tâches\n
 \nLes journées seront rythmées par une alternance entre les différentes
  propositions\, avec un minimum de 2 ateliers de Travail qui relie par jou
 r\, 2 méditations et 2 lectures de textes....\n\nLes tarifs\nProposition 
 d'un forfait 2 jours/une nuit (incluant l'hébergement\, la nourriture et 
 l'animation du samedi matin au dimanche 16h) à partir de 150€ + partici
 pation consciente**. Pour une arrivée le vendredi soir\, ou une nuit supp
 lémentaire le dimanche\, ajouter 30€ (nuitée).\n\nLa nourriture\nDuran
 t le temps du stage (samedi/dimanche)\, la cuisine sera préparée en comm
 un sur la base de produits bio\, végétariens\, sans gluten acheté au pr
 éalable sur le continent.\nLes soirs du vendredi et du dimanche\, le repa
 s est proposé à 15€ ou libre (si vous souhaitez aller au restaurant ou
  un pic nique)\n\nLe séjour prolongé\nIl vous est possible de prolonger 
 votre séjour si vous le souhaitez. La nuitée est alors à 35€ (au lieu
  de 50€)\n\nLa question financière ne doit pas vous empêcher de venir.
  On en discute !\n\n*Le travail qui relie\, développé par l’écophilos
 ophe Joanna Macy\, est une méthodologie de transformation individuelle et
  collective au service de la Terre et du Vivant. Il s’expérimente dans 
 des ateliers en groupe à travers une spirale en quatre temps : s’ancrer
  dans la gratitude pour la vie \; reconnaître et honorer notre douleur po
 ur le monde \; changer de regard et s’engager dans une action juste en l
 ien avec d’autres personnes.\n\n** La participation consciente est un mo
 de de rétribution qui questionne notre relation à l’argent et notre fa
 çon d’échanger nos richesses. Elle correspond à la somme que vous sou
 haitez ou pouvez donner en conscience pour ce que vous avez vécu. Elle of
 fre potentiellement un chemin de transformation individuelle et collective
 \, et permet notamment à des personnes disposant de faibles revenus de pa
 rticiper à une activité tout en autorisant celles qui le peuvent à sout
 enir avec justesse le travail de facilitation.\n\nINSCRIPTIONS SUR HELLO A
 SSO :\n\nhttps://www.helloasso.com/associations/animaterra/evenements/laud
 ato-si-et-travail-qui-relie-a-l-ile-aux-moines\n\nPour toute demande d'inf
 ormation: animaterra56@gmail.com ou Christine au 06 70 03 29 12
ATTACH;FMTTYPE=image/jpeg:https://www.egliseverte.org/wp-content/uploads/2
 025/05/photo_5800810163605718917_y.jpg
LOCATION:Ker Francesco Ile aux Moines\, Ker Francesco\, rue du Rest\, ile a
 ux moines\, 56780\, Morbihan\, France
X-APPLE-STRUCTURED-LOCATION;VALUE=URI;X-ADDRESS=Ker Francesco\, rue du Rest
 \, ile aux moines\, 56780\, Morbihan\, France;X-APPLE-RADIUS=100;X-TITLE=K
 er Francesco Ile aux Moines:geo:0,0
END:VEVENT
BEGIN:VTIMEZONE
TZID:Europe/Paris
X-LIC-LOCATION:Europe/Paris
BEGIN:DAYLIGHT
DTSTART:20250330T030000
TZOFFSETFROM:+0100
TZOFFSETTO:+0200
TZNAME:CEST
END:DAYLIGHT
END:VTIMEZONE
END:VCALENDAR