BEGIN:VCALENDAR
VERSION:2.0
PRODID:-//wp-events-plugin.com//7.2.3.1//EN
TZID:Europe/Paris
X-WR-TIMEZONE:Europe/Paris
BEGIN:VEVENT
UID:563@egliseverte.org
DTSTART;TZID=Europe/Paris;VALUE=DATE:20251018
DTEND;TZID=Europe/Paris;VALUE=DATE:20251020
DTSTAMP:20250915T091739Z
URL:https://www.egliseverte.org/agenda/laudato-si-travail-qui-relie-franco
 is/
SUMMARY:LAUDATO SI' ET TRAVAIL QUI RELIE - DANS LES PAS DE FRANÇOIS
DESCRIPTION:Dans la conscience des défis écologiques compris comme des en
 jeux spirituels\, cette retraite nous invite à vivre le message de Laudat
 o Si’ dans ses dimensions sensibles et concrètes en s’appuyant sur le
 s textes fondateurs de l’encyclique ainsi que sur le “Travail qui Reli
 e”\, une méthodologie de transformation personnelle et collective au se
 rvice de la Terre et du Vivant.\nCette retraite écospirituelle sera anim
 ée par Christine Kristof\, co-fondatrice de Chretiens Unis pour la Terre 
 et de l'association AnimaTerra\, éco-jounraliste\, autrice et accompagnat
 rice en conversion écospirituelle.\n\nPlus d'infos\nS'inscire ici : https
 ://www.hautmont.org/propositions/retraite-ecospirituelle/du-samedi-18-octo
 bre-2025-a-09h00-au-dimanche-19
ATTACH;FMTTYPE=image/jpeg:https://www.egliseverte.org/wp-content/uploads/2
 025/09/Assise1-282-Copie.jpg
LOCATION:Centre Spirituel du Haumont\, 31 rue Mirabeau\, Mouvaux\,  59420 \
 , France
GEO:50.705277;3.129151
X-APPLE-STRUCTURED-LOCATION;VALUE=URI;X-ADDRESS=31 rue Mirabeau\, Mouvaux\,
   59420 \, France;X-APPLE-RADIUS=100;X-TITLE=Centre Spirituel du Haumont:g
 eo:50.705277,3.129151
END:VEVENT
BEGIN:VTIMEZONE
TZID:Europe/Paris
X-LIC-LOCATION:Europe/Paris
BEGIN:DAYLIGHT
DTSTART:20250330T030000
TZOFFSETFROM:+0100
TZOFFSETTO:+0200
TZNAME:CEST
END:DAYLIGHT
END:VTIMEZONE
END:VCALENDAR