BEGIN:VCALENDAR
VERSION:2.0
PRODID:-//wp-events-plugin.com//7.2.3.1//EN
TZID:Europe/Paris
X-WR-TIMEZONE:Europe/Paris
BEGIN:VEVENT
UID:575@egliseverte.org
DTSTART;TZID=Europe/Paris:20251011T093000
DTEND;TZID=Europe/Paris:20251011T170000
DTSTAMP:20250922T125731Z
URL:https://www.egliseverte.org/agenda/laudato-si-un-message-desperance/
SUMMARY:Laudato Si'\, un message d'espérance !
DESCRIPTION:Une journée pour se ressourcer autour de Laudato Si'\, se renc
 ontrer et partager.\n\nTélécharger l'affiche
ATTACH;FMTTYPE=image/jpeg:https://www.egliseverte.org/wp-content/uploads/2
 025/09/Journee-LS-11-10-25.jpg
LOCATION:Abbaye de Bellefontaine (49)\, Bellefontaine\, Bégrolles en mauge
 s\, Maine-et-Loire\, 49122\, Pays de la Loire\, France
GEO:47.151448;-0.93803
X-APPLE-STRUCTURED-LOCATION;VALUE=URI;X-ADDRESS=Bellefontaine\, Bégrolles 
 en mauges\, Maine-et-Loire\, 49122\, Pays de la Loire\, France;X-APPLE-RAD
 IUS=100;X-TITLE=Abbaye de Bellefontaine (49):geo:47.151448,-0.93803
END:VEVENT
BEGIN:VTIMEZONE
TZID:Europe/Paris
X-LIC-LOCATION:Europe/Paris
BEGIN:DAYLIGHT
DTSTART:20250330T030000
TZOFFSETFROM:+0100
TZOFFSETTO:+0200
TZNAME:CEST
END:DAYLIGHT
END:VTIMEZONE
END:VCALENDAR