BEGIN:VCALENDAR
VERSION:2.0
PRODID:-//wp-events-plugin.com//7.2.3.1//EN
TZID:Europe/Paris
X-WR-TIMEZONE:Europe/Paris
BEGIN:VEVENT
UID:318@egliseverte.org
DTSTART;TZID=Europe/Paris:20240428T054500
DTEND;TZID=Europe/Paris:20240428T080000
DTSTAMP:20240404T161251Z
URL:https://www.egliseverte.org/agenda/le-chant-de-laube-89-2/
SUMMARY:LE CHANT DE L'AUBE (89)
DESCRIPTION:Venez faire l'expérience du chant de l'aube : Écouter les ois
 eaux à l'heure où l'aube éclaire le ciel\, pendant un temps méditatif
ATTACH;FMTTYPE=image/jpeg:https://www.egliseverte.org/wp-content/uploads/2
 020/01/blue-tit-4731661_1280.jpg
LOCATION:La porte du bois\, 48 boulevard du Nord\, JOIGNY\, 89 Yonne\, 8930
 0\, Bourgogne\, France
X-APPLE-STRUCTURED-LOCATION;VALUE=URI;X-ADDRESS=48 boulevard du Nord\, JOIG
 NY\, 89 Yonne\, 89300\, Bourgogne\, France;X-APPLE-RADIUS=100;X-TITLE=La p
 orte du bois:geo:0,0
END:VEVENT
BEGIN:VTIMEZONE
TZID:Europe/Paris
X-LIC-LOCATION:Europe/Paris
BEGIN:DAYLIGHT
DTSTART:20240331T030000
TZOFFSETFROM:+0100
TZOFFSETTO:+0200
TZNAME:CEST
END:DAYLIGHT
END:VTIMEZONE
END:VCALENDAR