BEGIN:VCALENDAR
VERSION:2.0
PRODID:-//wp-events-plugin.com//7.2.3.1//EN
TZID:Europe/Paris
X-WR-TIMEZONE:Europe/Paris
BEGIN:VEVENT
UID:319@egliseverte.org
DTSTART;TZID=Europe/Paris:20240501T054500
DTEND;TZID=Europe/Paris:20240501T080000
DTSTAMP:20240404T161405Z
URL:https://www.egliseverte.org/agenda/le-chant-de-laube-89-3/
SUMMARY:LE CHANT DE L'AUBE (89)
DESCRIPTION:Venez faire l'expérience du chant de l'Aube : Ecouter les oise
 aux au lever du soleil\, louer Dieu pour la beauté de la création.\nMarc
 he méditative et priante jusqu'à un point de vue\, tout en écoutant les
  oiseaux et priant.\nAccueil du lever du soleil\nPetit déjeuner dans la s
 alle paroissiale
ATTACH;FMTTYPE=image/jpeg:https://www.egliseverte.org/wp-content/uploads/2
 020/01/blue-tit-4731661_1280.jpg
LOCATION:La Porte du bois\, 48 boulevard du Nord\, JOIGNY\, Yonne\, 89300\,
  Bourgogne\, France
X-APPLE-STRUCTURED-LOCATION;VALUE=URI;X-ADDRESS=48 boulevard du Nord\, JOIG
 NY\, Yonne\, 89300\, Bourgogne\, France;X-APPLE-RADIUS=100;X-TITLE=La Port
 e du bois:geo:0,0
END:VEVENT
BEGIN:VTIMEZONE
TZID:Europe/Paris
X-LIC-LOCATION:Europe/Paris
BEGIN:DAYLIGHT
DTSTART:20240331T030000
TZOFFSETFROM:+0100
TZOFFSETTO:+0200
TZNAME:CEST
END:DAYLIGHT
END:VTIMEZONE
END:VCALENDAR