BEGIN:VCALENDAR
VERSION:2.0
PRODID:-//wp-events-plugin.com//7.2.3.1//EN
TZID:Europe/Paris
X-WR-TIMEZONE:Europe/Paris
BEGIN:VEVENT
UID:596@egliseverte.org
DTSTART;TZID=Europe/Paris:20251009T203000
DTEND;TZID=Europe/Paris:20251009T220000
DTSTAMP:20251003T073636Z
URL:https://www.egliseverte.org/agenda/lecologie-en-2025-progression-ou-re
 gression/
SUMMARY:L'écologie en 2025 : progression ou régression ?
DESCRIPTION:Face aux multiples crises\, tensions et défis de notre monde\,
  l’écologie devient-elle un enjeu oublié\, ou simplement mis de coté 
 car ses impacts ne s’évaluent que dans la durée ? Ou au contraire\, la
  quête de sens qui se manifeste sous de multiples formes ouvre-t-elle une
  place accrue pour des réflexions et initiatives cherchant à mieux assoc
 ier et concilier les réponses aux besoins sociaux\, économiques et envir
 onnementaux ?\n\n10 ans après l’encyclique Laudato si’ du Pape Franç
 ois\, le Père Olric de Gélis\, docteur en théologie et directeur du pô
 le de recherche du Collège des Bernardins\, abordera ces questions.\n\nQu
 el état des lieux peut-on aujourd’hui partager de l’écologie sous le
 s angles économiques industriels\, scientifiques ? Et depuis 10 ans\, que
 lles évolutions des mentalités et consciences peut-on repérer\, dans de
 s perspectives sociologiques\, anthropologiques\, philosophiques… ? Et a
 u sein de l’Eglise\, des paroisses\, les chrétiens ont-ils assimilé le
 s grands constats et messages d’alerte et d’espérance proposés par L
 audato si’ ? La réflexion théologique s’est poursuivie et partagée\
 , mettant ou remettant aussi de nouvelles perspectives.\n\nDocteur en thé
 ologie\, le p. Olric de Gélis est directeur du Pôle de recherche du Coll
 ège des Bernardins depuis 2020 et co-directeur du département Humanités
  environnementales du Collège des Bernardins\, ouvert en 2024. Il a été
  co-directeur de la chaire « Laudato si’\, Pour une nouvelle exploratio
 n de la Terre » du Collège des Bernardins\, de 2021 à 2023.\n\nParticip
 ation libre sur inscription. Conférence à suivre en présentiel au Centr
 e Teilhard de Chardin\, suivie d’un temps convivial\, ou en direct à di
 stance.\n\nInscription : https://www.centreteilharddechardin.fr/inscriptio
 n-a-un-evenement/?event_id=4553
ATTACH;FMTTYPE=image/jpeg:https://www.egliseverte.org/wp-content/uploads/2
 025/10/Conf-Bernardins_9_octobre-1080-x-1080-px.png
LOCATION:Centre Teilhard de Chardin\, 12 rue Francis Perrin\, Plateau de Sa
 clay\, Gif-sur-Yvette\,  91190\, Ile-de-France\, France
GEO:48.711937;2.16211
X-APPLE-STRUCTURED-LOCATION;VALUE=URI;X-ADDRESS=12 rue Francis Perrin\, Pla
 teau de Saclay\, Gif-sur-Yvette\,  91190\, Ile-de-France\, France;X-APPLE-
 RADIUS=100;X-TITLE=Centre Teilhard de Chardin:geo:48.711937,2.16211
END:VEVENT
BEGIN:VTIMEZONE
TZID:Europe/Paris
X-LIC-LOCATION:Europe/Paris
BEGIN:DAYLIGHT
DTSTART:20250330T030000
TZOFFSETFROM:+0100
TZOFFSETTO:+0200
TZNAME:CEST
END:DAYLIGHT
END:VTIMEZONE
END:VCALENDAR