BEGIN:VCALENDAR
VERSION:2.0
PRODID:-//wp-events-plugin.com//7.2.3.1//EN
TZID:Europe/Paris
X-WR-TIMEZONE:Europe/Paris
BEGIN:VEVENT
UID:305@egliseverte.org
DTSTART;TZID=Europe/Paris:20240213T173000
DTEND;TZID=Europe/Paris:20240319T193000
DTSTAMP:20240216T164601Z
URL:https://www.egliseverte.org/agenda/les-arbres-qui-marchent-projection-
 et-partage-54/
SUMMARY:Les arbres qui marchent - projection et partage (54)
DESCRIPTION:les mardis 13\, 20 février\, 12 et 19 mars 2024\nde 17h30 à 1
 9h30 - Salle Saint Longin\n\nChaque séance de 2 épisodes sera suivie d
 ’un échange\n\nParcours pour changer de regard sur le monde\, se laisse
 r bousculer par l’écologie intégrale\, mobiliser des ressources intér
 ieures pour avancer lucidement dans un monde qui bascule.\n\nhttps://www.c
 atholique-nancy.fr/sites/saint-charles-de-foucauld/agenda/61667-61667/\n\n
 https://desarbresquimarchent.com/index.php/la-serie/
ATTACH;FMTTYPE=image/jpeg:https://www.egliseverte.org/wp-content/uploads/2
 024/02/Annonce-Des-arbres-qui-marchent.jpg
LOCATION:Maison paroissiale St Charles de Foucauld\, 39 rue de Laxou \, NAN
 CY\, 54000\, France
X-APPLE-STRUCTURED-LOCATION;VALUE=URI;X-ADDRESS=39 rue de Laxou \, NANCY\, 
 54000\, France;X-APPLE-RADIUS=100;X-TITLE=Maison paroissiale St Charles de
  Foucauld:geo:0,0
END:VEVENT
BEGIN:VTIMEZONE
TZID:Europe/Paris
X-LIC-LOCATION:Europe/Paris
BEGIN:STANDARD
DTSTART:20231029T020000
TZOFFSETFROM:+0200
TZOFFSETTO:+0100
TZNAME:CET
END:STANDARD
END:VTIMEZONE
END:VCALENDAR