BEGIN:VCALENDAR
VERSION:2.0
PRODID:-//wp-events-plugin.com//7.2.3.1//EN
TZID:Europe/Paris
X-WR-TIMEZONE:Europe/Paris
BEGIN:VEVENT
UID:259@egliseverte.org
DTSTART;TZID=Europe/Paris:20230224T200000
DTEND;TZID=Europe/Paris:20230331T220000
DTSTAMP:20231120T160754Z
URL:https://www.egliseverte.org/agenda/les-vendredis-du-careme-89/
SUMMARY:Les vendredis du Carême (89)
DESCRIPTION:Les vendredis de Carême\n\nProjection des différents épisode
 s « Des arbres qui marchent »\n\nhttps://www.yonne.catholique.fr/saint-j
 ean-baptiste-joigny/vie-paroissiale/agenda/les-vendredis-du-careme-vendred
 i-24-fevrier
ATTACH;FMTTYPE=image/jpeg:https://www.egliseverte.org/wp-content/uploads/2
 023/02/Les-vendredis-du-Careme-Eglise-Verte.jpg
LOCATION:Presbytère Saint Jean Baptiste Joigny\, 1 rue dans le Château\, 
 JOIGNY\, FRANCE\, 89300\, BOURGOGNE\, France
GEO:47.982988;3.398107
X-APPLE-STRUCTURED-LOCATION;VALUE=URI;X-ADDRESS=1 rue dans le Château\, JO
 IGNY\, FRANCE\, 89300\, BOURGOGNE\, France;X-APPLE-RADIUS=100;X-TITLE=Pres
 bytère Saint Jean Baptiste Joigny:geo:47.982988,3.398107
END:VEVENT
BEGIN:VTIMEZONE
TZID:Europe/Paris
X-LIC-LOCATION:Europe/Paris
BEGIN:STANDARD
DTSTART:20221030T020000
TZOFFSETFROM:+0200
TZOFFSETTO:+0100
TZNAME:CET
END:STANDARD
BEGIN:DAYLIGHT
DTSTART:20230326T030000
TZOFFSETFROM:+0100
TZOFFSETTO:+0200
TZNAME:CEST
END:DAYLIGHT
END:VTIMEZONE
END:VCALENDAR