BEGIN:VCALENDAR
VERSION:2.0
PRODID:-//wp-events-plugin.com//7.2.3.1//EN
TZID:Europe/Paris
X-WR-TIMEZONE:Europe/Paris
BEGIN:VEVENT
UID:542@egliseverte.org
DTSTART;TZID=Europe/Paris:20250914T103000
DTEND;TZID=Europe/Paris:20250914T150000
DTSTAMP:20250904T101140Z
URL:https://www.egliseverte.org/agenda/marche-au-rythme-de-la-creation/
SUMMARY:Marche au rythme de la Création
DESCRIPTION:Après la messe de 9h30 à Carlus\,\nsoit à 10h30 : organisati
 on d'une marche avec "un pèlerinage au rythme de la Création" au départ
  de la Salle Polyvalente de Carlus\n- un temps de prière sans marche "pri
 er avec Laudato Si'" (à la salle pour ceux qui ne peuvent pas marcher)\n-
  le tout suivi d'un pique nique commun à la salle
ATTACH;FMTTYPE=image/jpeg:https://www.egliseverte.org/wp-content/uploads/2
 025/09/affiche-tps-de-la-creation-2025-Carlus_page-0001.jpg
LOCATION:Salle polyvalente de Carlus (81)\, route de Terssac\, Carlus\, Tar
 n\, 81990\, Occitanie\, France
GEO:43.926152;2.110382
X-APPLE-STRUCTURED-LOCATION;VALUE=URI;X-ADDRESS=route de Terssac\, Carlus\,
  Tarn\, 81990\, Occitanie\, France;X-APPLE-RADIUS=100;X-TITLE=Salle polyva
 lente de Carlus (81):geo:43.926152,2.110382
END:VEVENT
BEGIN:VTIMEZONE
TZID:Europe/Paris
X-LIC-LOCATION:Europe/Paris
BEGIN:DAYLIGHT
DTSTART:20250330T030000
TZOFFSETFROM:+0100
TZOFFSETTO:+0200
TZNAME:CEST
END:DAYLIGHT
END:VTIMEZONE
END:VCALENDAR