BEGIN:VCALENDAR
VERSION:2.0
PRODID:-//wp-events-plugin.com//7.2.3.1//EN
TZID:Europe/Paris
X-WR-TIMEZONE:Europe/Paris
BEGIN:VEVENT
UID:545@egliseverte.org
DTSTART;TZID=Europe/Paris:20251004T090000
DTEND;TZID=Europe/Paris:20251004T120000
DTSTAMP:20250904T101229Z
URL:https://www.egliseverte.org/agenda/marche-du-temps-profond-a-resonance
 -biblique/
SUMMARY:Marche du Temps Profond à résonance biblique
DESCRIPTION:Pour clore le mois de la Création\, le groupe Église verte de
  Vendée vous invite...\nVenez découvrir l’étonnante histoire de notre
  planète et du monde vivant dans un dialogue méditatif entre science et 
 foi chrétienne.\nRevivez en 3h les grandes étapes des 4\,6 milliards d
 ’années de l’histoire de la Terre dans le site exceptionnel du Chaos 
 de Piquet\, à 25 minutes de la Roche-sur-Yon.\nPlaces limitées\, inscrip
 tion obligatoire sur :\nhttps://framaforms.org/inscription-marche-du-tps-p
 rofond-chaos-de-piquet-4-oct-2025-1756478202
ATTACH;FMTTYPE=image/jpeg:https://www.egliseverte.org/wp-content/uploads/2
 025/09/image-chaos-piquet.jpg
LOCATION:Chaos de Piquet (25)\, Piquet\, Le Tablier\, Vendée\, 85310\, Pay
 s de Loire\, France
GEO:46.546334;-1.334434
X-APPLE-STRUCTURED-LOCATION;VALUE=URI;X-ADDRESS=Piquet\, Le Tablier\, Vend
 ée\, 85310\, Pays de Loire\, France;X-APPLE-RADIUS=100;X-TITLE=Chaos de P
 iquet (25):geo:46.546334,-1.334434
END:VEVENT
BEGIN:VTIMEZONE
TZID:Europe/Paris
X-LIC-LOCATION:Europe/Paris
BEGIN:DAYLIGHT
DTSTART:20250330T030000
TZOFFSETFROM:+0100
TZOFFSETTO:+0200
TZNAME:CEST
END:DAYLIGHT
END:VTIMEZONE
END:VCALENDAR