BEGIN:VCALENDAR
VERSION:2.0
PRODID:-//wp-events-plugin.com//7.2.3.1//EN
TZID:Europe/Paris
X-WR-TIMEZONE:Europe/Paris
BEGIN:VEVENT
UID:554@egliseverte.org
DTSTART;TZID=Europe/Paris:20250914T143000
DTEND;TZID=Europe/Paris:20250914T173000
DTSTAMP:20250911T153540Z
URL:https://www.egliseverte.org/agenda/marche-en-temps-profond/
SUMMARY:MARCHE EN TEMPS PROFOND
DESCRIPTION:Une marche en famille au rythme de l’évolution de la Créati
 on pour marquer le mois de la Création\n\nLE 14 SEPTEMBRE de 14h30 à 17h
 30 : au départ de Wattwiller une marche de 4\,6 km qui correspond aux 4\,
 6 milliards d’année qui nous séparent de la formation de la terre. Cet
 te marche de 4\,6 km est rythmée par la découverte de magnifiques photos
 \, des apports scientifiques et des pistes de méditation avec la Parole d
 e Dieu.\n\nhttps://prieenchemin.org/parcours-spirituels/112
ATTACH;FMTTYPE=image/jpeg:https://www.egliseverte.org/wp-content/uploads/2
 024/06/Marche-du-Temps-Profond.png
LOCATION:Église Saint Jean-Baptiste (68)\, avenue du Général de Gaulle\,
  Wattwiller\, Haut Rhin\, 68700\, Alsace\, France
GEO:47.835925;7.176868
X-APPLE-STRUCTURED-LOCATION;VALUE=URI;X-ADDRESS=avenue du Général de Gaul
 le\, Wattwiller\, Haut Rhin\, 68700\, Alsace\, France;X-APPLE-RADIUS=100;X
 -TITLE=Église Saint Jean-Baptiste (68):geo:47.835925,7.176868
END:VEVENT
BEGIN:VTIMEZONE
TZID:Europe/Paris
X-LIC-LOCATION:Europe/Paris
BEGIN:DAYLIGHT
DTSTART:20250330T030000
TZOFFSETFROM:+0100
TZOFFSETTO:+0200
TZNAME:CEST
END:DAYLIGHT
END:VTIMEZONE
END:VCALENDAR