BEGIN:VCALENDAR
VERSION:2.0
PRODID:-//wp-events-plugin.com//7.2.3.1//EN
TZID:Europe/Paris
X-WR-TIMEZONE:Europe/Paris
BEGIN:VEVENT
UID:617@egliseverte.org
DTSTART;TZID=Europe/Paris:20251130T130000
DTEND;TZID=Europe/Paris:20251130T160000
DTSTAMP:20251117T104348Z
URL:https://www.egliseverte.org/agenda/marche-temps-profond-pique-nique-fa
 mille/
SUMMARY:Marche du temps profond et pique nique en famille
DESCRIPTION:Pour les 10 ans de Laudato Si'\, l'équipe Église verte organi
 se un pique nique et une marche en famille au Parc Pastré.\n\nAprès le r
 epas\, nous traversons 4\,6 milliards d'années sous le regard de Dieu !
ATTACH;FMTTYPE=image/jpeg:https://www.egliseverte.org/wp-content/uploads/2
 024/06/Marche-du-Temps-Profond.png
LOCATION:Parc Pastré\, RV à 12:10  à l'église St Joseph ou 13 h arrêt 
 du bus 19 parc Pastré\, avenue de Montredon\, Marseille\, France
GEO:43.239984;5.366987
X-APPLE-STRUCTURED-LOCATION;VALUE=URI;X-ADDRESS=RV à 12:10  à l'église S
 t Joseph ou 13 h arrêt du bus 19 parc Pastré\, avenue de Montredon\, Mar
 seille\, France;X-APPLE-RADIUS=100;X-TITLE=Parc Pastré:geo:43.239984,5.36
 6987
END:VEVENT
BEGIN:VTIMEZONE
TZID:Europe/Paris
X-LIC-LOCATION:Europe/Paris
BEGIN:STANDARD
DTSTART:20251026T020000
TZOFFSETFROM:+0200
TZOFFSETTO:+0100
TZNAME:CET
END:STANDARD
END:VTIMEZONE
END:VCALENDAR