BEGIN:VCALENDAR
VERSION:2.0
PRODID:-//wp-events-plugin.com//7.2.3.1//EN
TZID:Europe/Paris
X-WR-TIMEZONE:Europe/Paris
BEGIN:VEVENT
UID:448@egliseverte.org
DTSTART;TZID=Europe/Paris:20250215T090000
DTEND;TZID=Europe/Paris:20250215T123000
DTSTAMP:20250212T173600Z
URL:https://www.egliseverte.org/agenda/matinee-dinformation-et-de-sensibil
 isation-avec-diverses-fresques-38/
SUMMARY:Matinée d'information et de sensibilisation avec diverses Fresques
  (38)
DESCRIPTION:5 fresques en parallèle à Seyssinet Pariset :\n\nbiodiversit
 é\n\nnumérique\n\neau\n\nmobilité\n\nclimat
ATTACH;FMTTYPE=image/jpeg:https://www.egliseverte.org/wp-content/uploads/2
 021/05/csm_fresque-climat_ac9a138d0f.jpeg
LOCATION:Eglise N D du Drac\, 37 Rue Aimé Bouchayer \, Seyssinet Pariset\,
  38170\, France
X-APPLE-STRUCTURED-LOCATION;VALUE=URI;X-ADDRESS=37 Rue Aimé Bouchayer \, S
 eyssinet Pariset\, 38170\, France;X-APPLE-RADIUS=100;X-TITLE=Eglise N D du
  Drac:geo:0,0
END:VEVENT
BEGIN:VTIMEZONE
TZID:Europe/Paris
X-LIC-LOCATION:Europe/Paris
BEGIN:STANDARD
DTSTART:20241027T020000
TZOFFSETFROM:+0200
TZOFFSETTO:+0100
TZNAME:CET
END:STANDARD
END:VTIMEZONE
END:VCALENDAR