BEGIN:VCALENDAR
VERSION:2.0
PRODID:-//wp-events-plugin.com//7.2.3.1//EN
TZID:Europe/Paris
X-WR-TIMEZONE:Europe/Paris
BEGIN:VEVENT
UID:401@egliseverte.org
DTSTART;TZID=Europe/Paris:20241006T000000
DTEND;TZID=Europe/Paris:20241006T000000
DTSTAMP:20240918T163415Z
URL:https://www.egliseverte.org/agenda/messe-de-cloture-du-temps-pour-la-c
 reation-kermesse-et-repas-partage-81/
SUMMARY:Messe de clôture du Temps pour la Création\, kermesse et repas pa
 rtagé (81)
DESCRIPTION:Dimanche 6 octobre 2024 Clôture du Temps pour la Création\, 
 église de Rayssac : messe\, kermesse et repas partagé\n\nLa messe sera s
 uivie à l’église de Rayssac d'une kermesse et d'un repas partagé :\n\
 n 	pour la Kermesse\, merci d'apporter avant la messe des légumes\, des f
 leurs de votre jardin ou des gourmandises ou créations de votre confectio
 n\, des objets éco-responsables\, des livres mis à la vente contre don a
 u profit du diocèse de Tamatave de Madagascar\, jumelé avec le diocèse 
 d'Albi\n 	suivi du repas partagé pour tous\, venez nombreux !\n
ATTACH;FMTTYPE=image/jpeg:https://www.egliseverte.org/wp-content/uploads/2
 024/06/TpC-2024_Publication-carre_v2_catholiques.png
LOCATION:Eglise Saint-Jean-Baptiste de Rayssac à Albi (81)\, 32-34 Rue Dum
 ont d'Urville\, Albi\, 81\, 81000\, occitannie\, France
X-APPLE-STRUCTURED-LOCATION;VALUE=URI;X-ADDRESS=32-34 Rue Dumont d'Urville\
 , Albi\, 81\, 81000\, occitannie\, France;X-APPLE-RADIUS=100;X-TITLE=Eglis
 e Saint-Jean-Baptiste de Rayssac à Albi (81):geo:0,0
END:VEVENT
BEGIN:VTIMEZONE
TZID:Europe/Paris
X-LIC-LOCATION:Europe/Paris
BEGIN:DAYLIGHT
DTSTART:20240331T030000
TZOFFSETFROM:+0100
TZOFFSETTO:+0200
TZNAME:CEST
END:DAYLIGHT
END:VTIMEZONE
END:VCALENDAR