BEGIN:VCALENDAR
VERSION:2.0
PRODID:-//wp-events-plugin.com//7.2.3.1//EN
TZID:Europe/Paris
X-WR-TIMEZONE:Europe/Paris
BEGIN:VEVENT
UID:568@egliseverte.org
DTSTART;TZID=Europe/Paris:20250928T110000
DTEND;TZID=Europe/Paris:20250928T123000
DTSTAMP:20250915T091616Z
URL:https://www.egliseverte.org/agenda/messe-pour-la-creation-a-labbaye-de
 s-dombes/
SUMMARY:Messe pour la création à l'abbaye des Dombes
DESCRIPTION:A l'occasion du mois de prière pour la Création\, les frères
  et sœurs de la Communauté du Chemin Neuf aux Dombes vous invitent à ve
 nir prier avec eux et partager un temps convivial.\nA l'abbaye des Dombes\
 , les frères et sœurs de la communauté du Chemin Neuf poursuivent l’
 œuvre de prière et de travail des moines\, notamment à travers le soin 
 de la ferme\, du verger\, du parc de l'abbaye et par la formation théolog
 ique. Ici\, la Création porte notre prière et notre quotidien. La messe 
 du 28 septembre sera l'occasion de rendre grâce et de prier plus particul
 ièrement pour la Création. Nous serons heureux de partager ce moment ave
 c vous.\n11h00 : Messe pour la Création\n12h00 : Rencontres autours d'un 
 verre de l'amitié
ATTACH;FMTTYPE=image/jpeg:https://www.egliseverte.org/wp-content/uploads/2
 025/09/WhatsApp-Image-2025-09-15-at-11.00.59.jpeg
LOCATION:Abbaye Notre Dame des Dombes\, 1600 route de l'abbaye\, le Plantay
 \, 01330\, Ain\, France
GEO:46.038046;5.096323
X-APPLE-STRUCTURED-LOCATION;VALUE=URI;X-ADDRESS=1600 route de l'abbaye\, le
  Plantay\, 01330\, Ain\, France;X-APPLE-RADIUS=100;X-TITLE=Abbaye Notre Da
 me des Dombes:geo:46.038046,5.096323
END:VEVENT
BEGIN:VTIMEZONE
TZID:Europe/Paris
X-LIC-LOCATION:Europe/Paris
BEGIN:DAYLIGHT
DTSTART:20250330T030000
TZOFFSETFROM:+0100
TZOFFSETTO:+0200
TZNAME:CEST
END:DAYLIGHT
END:VTIMEZONE
END:VCALENDAR