BEGIN:VCALENDAR
VERSION:2.0
PRODID:-//wp-events-plugin.com//7.2.3.1//EN
TZID:Europe/Paris
X-WR-TIMEZONE:Europe/Paris
BEGIN:VEVENT
UID:500@egliseverte.org
DTSTART;TZID=Europe/Paris:20250914T110000
DTEND;TZID=Europe/Paris:20250914T120000
DTSTAMP:20250912T123017Z
URL:https://www.egliseverte.org/agenda/messe-pour-la-creation-marseille/
SUMMARY:Messe pour la Création (Marseille)
DESCRIPTION:Paroisses des Hauts de Marseille\, dans l'église Saint Philipp
 e
ATTACH;FMTTYPE=image/jpeg:https://www.egliseverte.org/wp-content/uploads/2
 021/05/Logo-Temps-pour-la-Création.png
LOCATION:Église Saint Joseph (13)\, 124 bis rue Paradis\, Marseille\, Bouc
 hes-du-Rhône\, 13006\, Provence-Alpes-Côte d'Azur\, France
GEO:43.288267;5.378853
X-APPLE-STRUCTURED-LOCATION;VALUE=URI;X-ADDRESS=124 bis rue Paradis\, Marse
 ille\, Bouches-du-Rhône\, 13006\, Provence-Alpes-Côte d'Azur\, France;X-
 APPLE-RADIUS=100;X-TITLE=Église Saint Joseph (13):geo:43.288267,5.378853
END:VEVENT
BEGIN:VTIMEZONE
TZID:Europe/Paris
X-LIC-LOCATION:Europe/Paris
BEGIN:DAYLIGHT
DTSTART:20250330T030000
TZOFFSETFROM:+0100
TZOFFSETTO:+0200
TZNAME:CEST
END:DAYLIGHT
END:VTIMEZONE
END:VCALENDAR