BEGIN:VCALENDAR
VERSION:2.0
PRODID:-//wp-events-plugin.com//7.2.3.1//EN
TZID:Europe/Paris
X-WR-TIMEZONE:Europe/Paris
BEGIN:VEVENT
UID:576@egliseverte.org
DTSTART;TZID=Europe/Paris:20250928T000000
DTEND;TZID=Europe/Paris:20251006T000000
DTSTAMP:20250921T140445Z
URL:https://www.egliseverte.org/agenda/neuvaine-a-saint-fiacre/
SUMMARY:Neuvaine à Saint Fiacre
DESCRIPTION:Décoration de l'église Saint Pierre - Saint Paul avec des fru
 its\, légumes et fleurs de saison et locaux\nMesse d'ouverture dimanche 2
 8.09 à 10h30\, prière aux messes de semaine\nPartage de la soupe réalis
 ée avec les légumes exposés\, le mardi 7 octobre à 19h\n\negliseverte.
 saintealdegonde@gmail.com
ATTACH;FMTTYPE=image/jpeg:https://www.egliseverte.org/wp-content/uploads/2
 025/09/Affiche-St-Fiacre-Jpeg-002.jpg
LOCATION:Eglise Saint Pierre - Saint Paul\, avenue Roosevelt\, MAUBEUGE\, 5
 9600\, Hauts-de-France\, France
GEO:50.278907;3.971929
X-APPLE-STRUCTURED-LOCATION;VALUE=URI;X-ADDRESS=avenue Roosevelt\, MAUBEUGE
 \, 59600\, Hauts-de-France\, France;X-APPLE-RADIUS=100;X-TITLE=Eglise Sain
 t Pierre - Saint Paul:geo:50.278907,3.971929
END:VEVENT
BEGIN:VTIMEZONE
TZID:Europe/Paris
X-LIC-LOCATION:Europe/Paris
BEGIN:DAYLIGHT
DTSTART:20250330T030000
TZOFFSETFROM:+0100
TZOFFSETTO:+0200
TZNAME:CEST
END:DAYLIGHT
END:VTIMEZONE
END:VCALENDAR