BEGIN:VCALENDAR
VERSION:2.0
PRODID:-//wp-events-plugin.com//7.2.3.1//EN
TZID:Europe/Paris
X-WR-TIMEZONE:Europe/Paris
BEGIN:VEVENT
UID:511@egliseverte.org
DTSTART;TZID=Europe/Paris:20250901T160000
DTEND;TZID=Europe/Paris:20250901T193000
DTSTAMP:20250801T095734Z
URL:https://www.egliseverte.org/agenda/ouverture-du-mois-de-la-creation/
SUMMARY:Ouverture du mois de la Création
DESCRIPTION:Rassemblement paroissial (paroisse St Joseph en bocage)\npour o
 uvrir le mois de la Création\nbalade\, ateliers\, messe\, temps convivial
ATTACH;FMTTYPE=image/jpeg:https://www.egliseverte.org/wp-content/uploads/2
 025/06/Temps-pour-la-Creation1.jpg
LOCATION:Chanu 61800\, Eglise\, Chanu\, Orne\, 61800\, Normandie\, France
X-APPLE-STRUCTURED-LOCATION;VALUE=URI;X-ADDRESS=Eglise\, Chanu\, Orne\, 618
 00\, Normandie\, France;X-APPLE-RADIUS=100;X-TITLE=Chanu 61800:geo:0,0
END:VEVENT
BEGIN:VTIMEZONE
TZID:Europe/Paris
X-LIC-LOCATION:Europe/Paris
BEGIN:DAYLIGHT
DTSTART:20250330T030000
TZOFFSETFROM:+0100
TZOFFSETTO:+0200
TZNAME:CEST
END:DAYLIGHT
END:VTIMEZONE
END:VCALENDAR