BEGIN:VCALENDAR
VERSION:2.0
PRODID:-//wp-events-plugin.com//7.2.3.1//EN
TZID:Europe/Paris
X-WR-TIMEZONE:Europe/Paris
BEGIN:VEVENT
UID:520@egliseverte.org
DTSTART;TZID=Europe/Paris:20250915T203000
DTEND;TZID=Europe/Paris:20251013T220000
DTSTAMP:20250901T073004Z
URL:https://www.egliseverte.org/agenda/parcours-dinitiation-a-lecologie-in
 tegrale-dapres-le-christ-vert/
SUMMARY:Parcours d'initiation à l'écologie intégrale (d'après le Christ
  Vert)
DESCRIPTION:Parcours en 3 soirées les lundi 15 septembre\, 29 septembre et
  13 octobre.\nD'après le livre\, "le Christ Vert"\, du père Etienne Gren
 net.\nVidéos suivies d'échanges en petits groupes
ATTACH;FMTTYPE=image/jpeg:https://www.egliseverte.org/wp-content/uploads/2
 025/08/le-christ-vert.jpg
LOCATION:Église Sainte Thérèse (92)\, boulevard des Côteaux\, Rueil-Mal
 maison\, Hauts-de-Seine\, 92500\, Ile de France\, France
GEO:48.883585;2.167844
X-APPLE-STRUCTURED-LOCATION;VALUE=URI;X-ADDRESS=boulevard des Côteaux\, Ru
 eil-Malmaison\, Hauts-de-Seine\, 92500\, Ile de France\, France;X-APPLE-RA
 DIUS=100;X-TITLE=Église Sainte Thérèse (92):geo:48.883585,2.167844
END:VEVENT
BEGIN:VTIMEZONE
TZID:Europe/Paris
X-LIC-LOCATION:Europe/Paris
BEGIN:DAYLIGHT
DTSTART:20250330T030000
TZOFFSETFROM:+0100
TZOFFSETTO:+0200
TZNAME:CEST
END:DAYLIGHT
END:VTIMEZONE
END:VCALENDAR