BEGIN:VCALENDAR
VERSION:2.0
PRODID:-//wp-events-plugin.com//7.2.3.1//EN
TZID:Europe/Paris
X-WR-TIMEZONE:Europe/Paris
BEGIN:VEVENT
UID:381@egliseverte.org
DTSTART;TZID=Europe/Paris:20240908T103000
DTEND;TZID=Europe/Paris:20240908T150000
DTSTAMP:20240909T105659Z
URL:https://www.egliseverte.org/agenda/pause-contemplative-oecumenique-92/
SUMMARY:Pause contemplative œcuménique (92)
DESCRIPTION:Pause contemplative œcuménique :\n\n10h30 Messe à Sainte-Ber
 nadette (3 rue Ernest Cognacq)\n\n11h45 départ en marchant en direction d
 u square Baudin où nous ferons une courte méditation contemplative - rep
 rise de la marche en direction du temple de la Petite Etoile (81 rue A. Fr
 ance)\n\n12h30 : repas tiré du sac\n\n14h00 : conférence « Espérer et 
 agir avec la Création » par la pasteure Christina Weinhold
ATTACH;FMTTYPE=image/jpeg:https://www.egliseverte.org/wp-content/uploads/2
 024/08/TpC-2024_Publication-carre_v1_catholiques.png
LOCATION:Eglise Ste Bernadette / Temple de la Petite Etoile\, 3 rue Ernest 
 Cognacq / 81 rue Anatole France\, Levallois-Perret\, France
X-APPLE-STRUCTURED-LOCATION;VALUE=URI;X-ADDRESS=3 rue Ernest Cognacq / 81 r
 ue Anatole France\, Levallois-Perret\, France;X-APPLE-RADIUS=100;X-TITLE=E
 glise Ste Bernadette / Temple de la Petite Etoile:geo:0,0
END:VEVENT
BEGIN:VTIMEZONE
TZID:Europe/Paris
X-LIC-LOCATION:Europe/Paris
BEGIN:DAYLIGHT
DTSTART:20240331T030000
TZOFFSETFROM:+0100
TZOFFSETTO:+0200
TZNAME:CEST
END:DAYLIGHT
END:VTIMEZONE
END:VCALENDAR