BEGIN:VCALENDAR
VERSION:2.0
PRODID:-//wp-events-plugin.com//7.2.3.1//EN
TZID:Europe/Paris
X-WR-TIMEZONE:Europe/Paris
BEGIN:VEVENT
UID:501@egliseverte.org
DTSTART;TZID=Europe/Paris:20251004T100000
DTEND;TZID=Europe/Paris:20251004T170000
DTSTAMP:20250624T155942Z
URL:https://www.egliseverte.org/agenda/pelerinage-diocesain-laudato-si/
SUMMARY:Pèlerinage diocésain Laudato Si'
DESCRIPTION:Messe de lancement puis marche et pique nique à travers la col
 line vers l'église jubilaire st Michel de Salon de Provence.\n\nAnimation
 s autour des thèmes de notre relation à l'eau et au territoire en partie
  aménagé au 19e s par les migrants italiens.\n\nClôture et envoi par l'
 évêque d'Aix et Arles\, monseigneur Delarbre.\n\nProposition vtt pour le
 s plus jeunes. Inscriptions ecologieintegrale@catho-aixarles.fr
ATTACH;FMTTYPE=image/jpeg:https://www.egliseverte.org/wp-content/uploads/2
 025/06/pelerinage-LSi-251004.png
LOCATION:Pélissanne (13)\, rue de la liberté\, Pélissanne\, Bouches-du-R
 hône\, 13330 \, Provence-Alpes-Côte d'Azur\, France
GEO:43.630665;5.149945
X-APPLE-STRUCTURED-LOCATION;VALUE=URI;X-ADDRESS=rue de la liberté\, Pélis
 sanne\, Bouches-du-Rhône\, 13330 \, Provence-Alpes-Côte d'Azur\, France;
 X-APPLE-RADIUS=100;X-TITLE=Pélissanne (13):geo:43.630665,5.149945
END:VEVENT
BEGIN:VTIMEZONE
TZID:Europe/Paris
X-LIC-LOCATION:Europe/Paris
BEGIN:DAYLIGHT
DTSTART:20250330T030000
TZOFFSETFROM:+0100
TZOFFSETTO:+0200
TZNAME:CEST
END:DAYLIGHT
END:VTIMEZONE
END:VCALENDAR