BEGIN:VCALENDAR
VERSION:2.0
PRODID:-//wp-events-plugin.com//7.2.3.1//EN
TZID:Europe/Paris
X-WR-TIMEZONE:Europe/Paris
BEGIN:VEVENT
UID:611@egliseverte.org
DTSTART;TZID=Europe/Paris:20251115T110000
DTEND;TZID=Europe/Paris:20251115T120000
DTSTAMP:20251112T110002Z
URL:https://www.egliseverte.org/agenda/pendant-la-cop30-un-cercle-de-silen
 ce-85/
SUMMARY:Pendant la COP30... un Cercle de Silence (85)
DESCRIPTION:Coordonné par Lutte et Contemplation\, le groupe CVX et les me
 mbres d'Église verte de Vendée organisent un Cercle de Silence pendant l
 a COP30. Après le temps de silence\, des échanges sont proposés autour 
 d'un café/thé.
ATTACH;FMTTYPE=image/jpeg:https://www.egliseverte.org/wp-content/uploads/2
 025/11/COP30-15-nov-2025.jpg
LOCATION:Esplanade Jacques Chirac\, Les Halles\, La Roche-sur-Yon\, Vendée
 \, 85000\, Pays de Loire\, France
GEO:46.670673;-1.423696
X-APPLE-STRUCTURED-LOCATION;VALUE=URI;X-ADDRESS=Les Halles\, La Roche-sur-Y
 on\, Vendée\, 85000\, Pays de Loire\, France;X-APPLE-RADIUS=100;X-TITLE=E
 splanade Jacques Chirac:geo:46.670673,-1.423696
END:VEVENT
BEGIN:VTIMEZONE
TZID:Europe/Paris
X-LIC-LOCATION:Europe/Paris
BEGIN:STANDARD
DTSTART:20251026T020000
TZOFFSETFROM:+0200
TZOFFSETTO:+0100
TZNAME:CET
END:STANDARD
END:VTIMEZONE
END:VCALENDAR