BEGIN:VCALENDAR
VERSION:2.0
PRODID:-//wp-events-plugin.com//7.2.3.1//EN
TZID:Europe/Paris
X-WR-TIMEZONE:Europe/Paris
BEGIN:VEVENT
UID:415@egliseverte.org
DTSTART;TZID=Europe/Paris:20241128T200000
DTEND;TZID=Europe/Paris:20241128T213000
DTSTAMP:20241125T112220Z
URL:https://www.egliseverte.org/agenda/piece-de-theatre-au-commencement-le
 -vert-etait-dans-la-pomme-26/
SUMMARY:Pièce de théâtre : "Au commencement le vert était dans la pomme
 " (26)
DESCRIPTION:Spectacle "Au commencement... le VERT était dans la pomme !" -
  CREST - Jeudi 28 novembre 2024 - 20h - L'EDEN.\n\n"C'est la fin du march
 é\, Ish et Isha n'ont pas vendu grand chose ! C'est le début d'un échan
 ge plein d'humour entre nos deux personnages sortis tout droit de l'histoi
 re humaine.\n\nÀ travers des scènes d'une grande force\, avec un décors
  d'une simplicité extrême\, le public sera invité à prendre position s
 ur des questions fondamentales du monde d'aujourd'hui et découvrir que TO
 UT est LIÉ."\n\n"Émotions... rires... pleurs... le travail et la présen
 ce de ces deux comédiens au milieu de ce décor surprenant et évolutif\,
  nous fait passer par toutes les couleurs de la planète..."\n\nBillets : 
 https://www.helloasso.com/associations/association-culturelle-saint-jean/e
 venements/crest-26-28-11-24-au-commencement-le-vert-etait-dans-la-pomme\n\
 nCREST - CINÉMA L'EDEN - 2\, quai Béranger\nJeudi 28 Novembre 2024 - 20h
 \nRéservation :\nAdulte : 14 €\n- 18 ans : 10 €\nForfait famille (4 e
 t +) : 40 €\nSur place : 16 € (Dans la limite des places disponibles)\
 nRéservations sur www.acsj.fr/crest\nou au : 06 73 49 34 12
ATTACH;FMTTYPE=image/jpeg:https://www.egliseverte.org/wp-content/uploads/2
 024/10/BATTractRectoCrest1.jpg
LOCATION:Cinéma l'Eden\, Quai Bérangere de la Blache \, CREST\, 26 Drôme
 \, 26400\, Rhône Alpes Auvergne\, France
X-APPLE-STRUCTURED-LOCATION;VALUE=URI;X-ADDRESS=Quai Bérangere de la Blach
 e \, CREST\, 26 Drôme\, 26400\, Rhône Alpes Auvergne\, France;X-APPLE-RA
 DIUS=100;X-TITLE=Cinéma l'Eden:geo:0,0
END:VEVENT
BEGIN:VTIMEZONE
TZID:Europe/Paris
X-LIC-LOCATION:Europe/Paris
BEGIN:STANDARD
DTSTART:20241027T020000
TZOFFSETFROM:+0200
TZOFFSETTO:+0100
TZNAME:CET
END:STANDARD
END:VTIMEZONE
END:VCALENDAR