BEGIN:VCALENDAR
VERSION:2.0
PRODID:-//wp-events-plugin.com//7.2.3.1//EN
TZID:Europe/Paris
X-WR-TIMEZONE:Europe/Paris
BEGIN:VEVENT
UID:286@egliseverte.org
DTSTART;TZID=Europe/Paris;VALUE=DATE:20231125
DTEND;TZID=Europe/Paris;VALUE=DATE:20231126
DTSTAMP:20231120T161800Z
URL:https://www.egliseverte.org/agenda/plantation-darbres-fruitiers-a-la-s
 ainte-catherine-27/
SUMMARY:Plantation d'arbres fruitiers à la Sainte Catherine (27)
DESCRIPTION:A la Sainte Catherine\, plantation d'une haie comestible et d'a
 rbres et arbustes fruitiers autour de l'église de Saint Michel à Evreux.
 \nAprès arrachage d'une haie de thuyas de 28 ml\, nous avons décidé de 
 planter une haie comestible financée par une souscription proposée aux f
 amilles. Si vous souhaitez vous engager et contribuer à notre projet glob
 al\, vous pouvez nous contacter via notre secrétariat ou notre site inter
 net.\n\nhttp://www.paroisse-saintjeanbaptiste-evreux.com/
END:VEVENT
BEGIN:VTIMEZONE
TZID:Europe/Paris
X-LIC-LOCATION:Europe/Paris
BEGIN:STANDARD
DTSTART:20231029T020000
TZOFFSETFROM:+0200
TZOFFSETTO:+0100
TZNAME:CET
END:STANDARD
END:VTIMEZONE
END:VCALENDAR