BEGIN:VCALENDAR
VERSION:2.0
PRODID:-//wp-events-plugin.com//7.2.3.1//EN
TZID:Europe/Paris
X-WR-TIMEZONE:Europe/Paris
BEGIN:VEVENT
UID:212@egliseverte.org
DTSTART;TZID=Europe/Paris:20220924T100000
DTEND;TZID=Europe/Paris:20220924T180000
DTSTAMP:20231120T160616Z
URL:https://www.egliseverte.org/agenda/portes-ouvertes-et-journee-brico-sp
 irituelle-35/
SUMMARY:Portes ouvertes et journée brico-spirituelle (35)
DESCRIPTION:Journée festive\, bricolage\, intervention du père Olivier Ro
 y\, apéro-concert (chanson française décalée).\n\nhttps://notredamedud
 esert.wixsite.com/fraternite\n\n&nbsp\;
ATTACH;FMTTYPE=image/jpeg:https://www.egliseverte.org/wp-content/uploads/2
 022/09/Journee-brico-spirituelle-2022-mini.jpg
LOCATION:Fraternité Notre-Dame du Désert\, Bruz\, 105\, lieu-dit La Coupe
 rie\, Pont-Réan\, Bruz\, France
GEO:48.00916;-1.774967
X-APPLE-STRUCTURED-LOCATION;VALUE=URI;X-ADDRESS=105\, lieu-dit La Couperie\
 , Pont-Réan\, Bruz\, France;X-APPLE-RADIUS=100;X-TITLE=Fraternité Notre-
 Dame du Désert\, Bruz:geo:48.00916,-1.774967
END:VEVENT
BEGIN:VTIMEZONE
TZID:Europe/Paris
X-LIC-LOCATION:Europe/Paris
BEGIN:DAYLIGHT
DTSTART:20220327T030000
TZOFFSETFROM:+0100
TZOFFSETTO:+0200
TZNAME:CEST
END:DAYLIGHT
END:VTIMEZONE
END:VCALENDAR