BEGIN:VCALENDAR
VERSION:2.0
PRODID:-//wp-events-plugin.com//7.2.3.1//EN
TZID:Europe/Paris
X-WR-TIMEZONE:Europe/Paris
BEGIN:VEVENT
UID:361@egliseverte.org
DTSTART;TZID=Europe/Paris:20240901T150000
DTEND;TZID=Europe/Paris:20240901T160000
DTSTAMP:20240809T123135Z
URL:https://www.egliseverte.org/agenda/priere-douverture-du-temps-pour-la-
 creation-2024/
SUMMARY:Prière d'ouverture du Temps pour la Création 2024
DESCRIPTION:Une célébration œcuménique en visioconférence pour lancer 
 le Temps pour la Création\, avec des membres du comité de pilotage mondi
 al : en anglais avec traduction française simultanée. Prières\, chants 
 et témoignages.\nS'inscrire sur Zoom : https://us06web.zoom.us/webinar/re
 gister/WN_4pihdHdfQ2WgFrerQo6WRQ#/registration
ATTACH;FMTTYPE=image/jpeg:https://www.egliseverte.org/wp-content/uploads/2
 024/08/Lancement-TpC-2024-min.png
LOCATION:https://us06web.zoom.us/webinar/register/WN_4pihdHdfQ2WgFrerQo6WRQ
 #/registration
END:VEVENT
BEGIN:VTIMEZONE
TZID:Europe/Paris
X-LIC-LOCATION:Europe/Paris
BEGIN:DAYLIGHT
DTSTART:20240331T030000
TZOFFSETFROM:+0100
TZOFFSETTO:+0200
TZNAME:CEST
END:DAYLIGHT
END:VTIMEZONE
END:VCALENDAR